BEGIN:VCALENDAR
VERSION:2.0
X-WR-CALNAME:www.indybay.org
PRODID:-//indybay/ical// v1.0//EN
BEGIN:VEVENT
UID:Indybay-18816420
SEQUENCE:18959264
CREATED:20180710T221600Z
DESCRIPTION:ZERO HOUR BAY AREA MARCH FOR YOUTH RIGHTS & CLIMATE CHANGE\n(Bay Area 
 sister march to Zero Hour March on Washington D.C.)\n\nWHEN: July 21, 2018 
 @ 12:00 PM - 2 PM\n\nWHERE: March starts at ICE Headquarters, 630 Sansome 
 Street, San Francisco 94941\nthen we're marching to Aquatic Park, Beach 
 Street, San Francisco 94133\n\nEvent Link: 
 https://www.facebook.com/events/471429243297692/\n\nYOUTH MARCH for 
 PROTECTIONS of RIGHTS & CLIMATE \n\nThe one thing that everyone working 
 towards justice can agree on is that kids are the future. As youth living 
 in the Bay Area we demand that adults treat kids better- no border cruelty, 
 no climate chaos. \n\nOn July 21st, young people will march in San 
 Francisco and around the country and demand climate change legislation. We 
 march to protect the rights of the youth: we demand an end to border 
 cruelty and greenhouse gas emissions. \n\nWhile this is a youth-led 
 movement, the march is open to all people passionate about defending the 
 safety and prosperity of future generations. Our movement is called This is 
 Zero Hour. \n\nWe say: Dear Decision-Makers (Jerry Brown, Gavin Newsom, and 
 our Senators)\n\n-Replace all Fossil Fuel extraction with renewable energy 
 sources and sustainable jobs!\n-Stop the Delta Tunnels!\n-Get Fossil Fuel 
 money out of politics! Don’t accept money from the Fossil Fuel 
 industry!\n-A liveable planet means climate justice-- we need justice for 
 youth from our climate policy to our immigration policy.\n\nWhat: Our event 
 will include drumming, chanting, a speak-out, and a live mural painting 
 project that anyone can participate in. \n\nWho: Zero Hour is organized by 
 youth ages 11-18. Youth and allies encouraged to participate!\n\nWhy: My 
 generation did not create climate change, but as the climate crisis unfolds 
 and elected officials fail to take meaningful action, young people are 
 standing up to defend our planet. We cannot afford to wait any longer: we 
 must ensure that our elected officials stop ignoring the needs of young 
 people and their right to a safe, healthy, and clean environment.\n\nHow 
 you can help:\n1. Sign up to co-sponsor!\n2. Spread the word and encourage 
 your member/contacts to attend!\n3. Are you in touch with youth (or adult 
 allies) who could help with tasks like planning, art-making, chant-leading, 
 and social media? Please put them in touch with us at (what email should we 
 use?)\n4. Please share our event page widely! 
 https://www.facebook.com/events/471429243297692/\n\n#zerohour #justice 
 #environment #familiesbelongtogether #youthvsapocalypse\n\nMISSION of ZERO 
 HOUR YOUTH MOVEMENT\n\nThe mission of the Zero Hour movement is to center 
 the voices of diverse youth in the conversation around climate and 
 environmental justice. \n\nZero Hour is a youth-led movement creating entry 
 points, training, and resources for new young activists and organizers (and 
 adults who support our vision) wanting to take concrete action around 
 climate change. \n\nTogether, we are a movement of unstoppable youth 
 organizing to protect our rights and access to the natural resources and a 
 clean, safe, and healthy environment that will ensure a livable future 
 where we not just survive, but flourish.\n 
 https://www.indybay.org/newsitems/2018/07/10/18816420.php
SUMMARY:San Francisco: Zero Hour Youth March for Youth Rights & Climate Change
LOCATION:March start: ICE Headquarters, 630 Sansome Street, San Francisco 
 94941\nThen marching to Aquatic Park, Beach Street, San Francisco 94133
URL:https://www.indybay.org/newsitems/2018/07/10/18816420.php
DTSTART:20180721T190000Z
DTEND:20180721T210000Z
END:VEVENT
END:VCALENDAR
