BEGIN:VCALENDAR
VERSION:2.0
X-WR-CALNAME:www.indybay.org
PRODID:-//indybay/ical// v1.0//EN
BEGIN:VEVENT
UID:Indybay-18815821
SEQUENCE:18958200
CREATED:20180620T191700Z
DESCRIPTION:Join Refuse Fascism Bay Area to celebrate Pride and demand that this 
 nightmare must end, the Trump/Pence regime must go! Invite ALL your friends 
 and family to join in. \n\n*Sign up online ASAP to march in the Resistance 
 Contingent: 
 https://www.eventbrite.com/e/sf-pride-resistance-contingent-tickets-46669322199\n*Arrive 
 between 9am-10am (march starts 10:30) on Sunday 6/24.\n\nThe Supreme Court 
 has sided with a Christian fascist businessman in Colorado who refused 
 services to a gay couple, effectively enshrining discrimination against 
 LGBT people. In the 7-2 decision, two liberal justices, while voicing 
 disagreements, ultimately sided in favor of the supposedly “unfairly 
 treated” bigot and delivered a result that utterly delighted Christian 
 fascists – particularly the rabidly anti-LGBT Family Research Council.¹ 
 Would you accept a business’ “right” to hang “whites only” or 
 “Christians only” signs in their shops, as protected “freedom of 
 religion” or expression of “philosophical objection”? Does this not 
 pave the way for something like an expanded system of segregation, against 
 anyone who is not white or Christian? This is an illegitimate ruling, and 
 we do not and should not have to accept this.\n\nThe Trump/Pence Regime 
 wants us degraded and vilified, they want to strip away recently-won civil 
 rights and liberties, and ram LGBTQ people back into the closet… all 
 while they demonize Muslims, round up and terrorize immigrants, deny 
 women’s reproductive freedom, and threaten the world with nuclear 
 annihilation and environmental catastrophe. We must instead courageously 
 stand up in defiance of all this, not just for ourselves and our 
 communities but for all of humanity and the planet itself. Boldly declaring 
 in both word and deed – NO! In the Name of Humanity, We REFUSE to Accept 
 a Fascist 
 America!\n\nhttps://refusefascism.org/2018/06/06/join-refusefascism-org-at-pride/\n\nhttps://www.facebook.com/events/800994823433178/\n\n 
 https://www.indybay.org/newsitems/2018/06/20/18815821.php
SUMMARY:Pride Parade - Refuse Fascism Contingent
LOCATION:Steuart St. & Don Chee Way in San Francisco
URL:https://www.indybay.org/newsitems/2018/06/20/18815821.php
DTSTART:20180624T163000Z
DTEND:20180624T193000Z
END:VEVENT
END:VCALENDAR
