BEGIN:VCALENDAR
VERSION:2.0
X-WR-CALNAME:www.indybay.org
PRODID:-//indybay/ical// v1.0//EN
BEGIN:VEVENT
UID:Indybay-18815793
SEQUENCE:18958094
CREATED:20180619T200800Z
DESCRIPTION:Families Belong Together March on Washington: Sister Rallies & Marches 
 throughout SF Bay Area, CA, USA\n\nDonald Trump and his administration are 
 cruelly separating children from their families. But we won't allow it to 
 continue. \n\nOn June 30, we're rallying in Washington, D.C., and around 
 the country to tell Donald Trump and his administration to stop separating 
 kids from their parents!\n\nJoin us on June 30 to send a clear message to 
 Donald Trump and Republicans in Congress: Families Belong 
 Together!\n\nEvents are scheduled for all around the the SF Bay Area, 
 Sacramento, Santa Cruz Country, Sonoma County, and beyond.  \n\nFind a 
 sister a march and/or rally in your area below.\n 
 https://www.indybay.org/newsitems/2018/06/19/18815793.php
SUMMARY:Families Belong Together March on Washington DC: Sister Protests in Bay Area, CA, USA
LOCATION:Find Marches & Rallies throughout the SF Bay Area, California, and USA
URL:https://www.indybay.org/newsitems/2018/06/19/18815793.php
DTSTART:20180630T080000Z
DTEND:20180630T080000Z
END:VEVENT
END:VCALENDAR
