BEGIN:VCALENDAR
VERSION:2.0
X-WR-CALNAME:www.indybay.org
PRODID:-//indybay/ical// v1.0//EN
BEGIN:VEVENT
UID:Indybay-18815477
SEQUENCE:18957624
CREATED:20180605T221000Z
DESCRIPTION:Sunday Morning at the Marxist Library\n\nContemporary Russia and the 
 Struggle to Build Communism\n\n   Russia in the 20th century was the site 
 of enormous upheavals   the Bolshevik Revolution, the massive 
 industrialization, the Great Patriotic War, the Cold War, the breakup of 
 the Soviet Union, and the Yeltsin era.  The Putin presidency (2000-present) 
 poses particularly difficult political and theoretical problems for 
 imperialists and Marxists alike.  to review imperialism’s (U.S.) 
 incessant lying attacks on ex-USSR/Putin, see this source; 
 \nhttps://consortiumnews.com/2018/02/06/understanding-russia-un-demonizing-putin\n 
   For 30 years Sharon Tennison, with high marks for her work in particular 
 by some Left-ists, talked to Soviets/Russians and U.S. Americans to try to 
 bring them together, to prevent mutual atomic bombing. Her work took a 
 surprising turn, one that needs examination by us. Her report is The Power 
 of Impossible Ideas: Ordinary Citizens' Extraordinary Efforts to Avert 
 International Crises.\n   Two ICSS members will examine these factors from 
 a Marxist perspective. Presentations by ICSS members Richard Fallenbaum, a 
 retired tech worker, and Norma Harrison, a woman, mother, public school 
 teacher, wife, electronics journey-one, Realtor.\n\nSun, June 10, 2018 – 
 10:30am-12:30pm\n6501 Telegraph Ave, Oakland (just North of Alcatraz 
 Ave.)\n\nSeating is limited, so plan to come early. We start 
 promptly.\nFREE - but hat will be passed for donations to NPML\nAbout 
 Sunday Morning at the Marxist Library\n\nA weekly discussion series 
 inspired by our respect for the work of Karl Marx and our belief that his 
 work will remain as important for the class struggles of the future as they 
 have been for the past. \n\nFor info or to subscribe to our weekly 
 announcements, \nCall Gene Ruyle at 510-332-3865 or email: 
 cuyleruyle@mac.com\nFor our full schedule, go to icssmarx.org \n 
 https://www.indybay.org/newsitems/2018/06/05/18815477.php
SUMMARY:Contemporary Russia and the Struggle to Build Communism
LOCATION:NPML\n6501 Telegraph Ave, Oakland (just North of Alcatraz Ave.)
URL:https://www.indybay.org/newsitems/2018/06/05/18815477.php
DTSTART:20180610T173000Z
DTEND:20180610T193000Z
END:VEVENT
END:VCALENDAR
