BEGIN:VCALENDAR
VERSION:2.0
X-WR-CALNAME:www.indybay.org
PRODID:-//indybay/ical// v1.0//EN
BEGIN:VEVENT
UID:Indybay-18815435
SEQUENCE:18957557
CREATED:20180603T175200Z
DESCRIPTION:Get Your Pride On! Parade & Festival at Capitol Mall in 
 Sacramento.\n\nWhen: Sunday, June 10th, 2018 @ 11 a.m. - 5 p.m.. \n\nWhere: 
  \nParade march starts at 11 a.m. @ 3rd and N Street, ends at 10th and N 
 Street.\nFestival is at Capitol Mall between 3rd and 7th streets \n\nFee: 
 costs $10 per person; children ten and under are free. \nPurchase tickets 
 here: https://sacramentopride.org/\n\nSacramento Pride is an LGBT 
 celebration that promotes acceptance and pride with a parade followed by an 
 outdoor party in the Capital Mall. High-energy live music, a dance 
 pavilion, an activity-rich kid’s zone, local vendors, and plenty of food 
 trucks are just some of the many attractions at this day long affair. There 
 are also booths providing unique services, support and information 
 throughout the event.\n\nFamily friendly event\n\nACTIVITIES\nThe Dance 
 Pavilion is the place to be to put on your dancing shoes and let loose! It 
 will feature all of today’s hit music, Country, Latin, Club Hits, and 
 more.  Playing all your favorites will be local DJ’s.\n\nKIDS 
 ZONE\nSponsored in part by Sierra Forever Families and Broadway Sacramento, 
 the kids zone will be filled with fun for the whole family. Some of the 
 activities will include a jump house, face painting, arts and crafts, a 
 bubble station, and more.\n\nART ZONE\nJoin Altered Egos at the Art House 
 and some of your favorite local artists at the 2018 Sacramento Pride Art 
 Zone! Artists from Amber O’Brien, Lindsay Williams, Danielle Janov, 
 Victoria Rose Vigil, and Vihil Vigil. Plus take a break from the 
 festivities to sit, paint a picture, refresh with a bottle of water and 
 leave a donation for Queer Youth in the Arts!\n\nQ-SPOT LIVE\nQ-Spot Live 
 is the Sacramento Pride youth area for socializing, activities, food, and 
 drinks! Stop by to hang out with other LGBTQ and Allied youth ages 13-23! 
 Located in the median of 5th and Capitol Mall in the Sacramento LGBT 
 Community Center’s tent.\n\nFOOD VENDORS\nSacramento Pride will have an 
 array of food options to satisfy everyone’s needs, from burgers to tacos, 
 snow cones, ice cream, and more! We will be featuring some of the best 
 Sacramento Food Trucks out there! Apply here.\n\n\n\n\n 
 https://www.indybay.org/newsitems/2018/06/03/18815435.php
SUMMARY:Get Your Pride On! Parade & Festival in Sacramento
LOCATION:Downtown Sacramento: \nParade March starts at 3rd and N Street, ends at 
 10th and N Street.\nFestival is at Capitol Mall between 3rd and 7th streets
URL:https://www.indybay.org/newsitems/2018/06/03/18815435.php
DTSTART:20180610T180000Z
DTEND:20180611T000000Z
END:VEVENT
END:VCALENDAR
