BEGIN:VCALENDAR
VERSION:2.0
X-WR-CALNAME:www.indybay.org
PRODID:-//indybay/ical// v1.0//EN
BEGIN:VEVENT
UID:Indybay-18815429
SEQUENCE:18957543
CREATED:20180603T001400Z
DESCRIPTION:Facebook event: https://www.facebook.com/events/1697892683651715/\n\nOM 
 Chanting is a free group practice. The event is represented by a spiritual 
 organization Bhakti Marga that believes that Om Chanting uses the 
 transformational power of OM to activate the self-healing potential of 
 participants. The practice transforms negativity into positive energy, 
 helps purify the local environment, and supports the physical, emotional 
 and spiritual well-being of participants. \n\nOM is the universal sound of 
 creation; it is the highest and purest vibration that exists. Rishis of old 
 perfected OM Chanting and used it for healing. Forgotten over time, this 
 ancient group technique has been reintroduced by Paramahamsa Vishwananda to 
 support Mother Earth and mankind in this time of need.\n\nThe vibrational 
 waves created by the circle spread out in a 1.24 miles radius, creating a 
 harmonious, peaceful environment and a unity between humans and nature. The 
 OM continues to resonate in participants’ bodies after the circle, 
 allowing them to share the good vibrations wherever they go.\n\nLove is 
 meant to be shared. OM Chanting brings people together to share the 
 positive vibrations of OM and their love for Mother Earth in local 
 communities and nations around the world. \n\nIntension for OM Chanting: 
 Spread Animal Liberation\n 
 https://www.indybay.org/newsitems/2018/06/02/18815429.php
SUMMARY:Carnivores Anonymous Bay Area Meeting
LOCATION:Berkeley Animal Rights Center\n2425 Channing Way, Berkeley, CA 94704\nSuite 
 C
URL:https://www.indybay.org/newsitems/2018/06/02/18815429.php
DTSTART:20180613T030000Z
DTEND:20180613T040000Z
END:VEVENT
END:VCALENDAR
