BEGIN:VCALENDAR
VERSION:2.0
X-WR-CALNAME:www.indybay.org
PRODID:-//indybay/ical// v1.0//EN
BEGIN:VEVENT
UID:Indybay-18815308
SEQUENCE:18957312
CREATED:20180528T214200Z
DESCRIPTION:Southern Migrant Mixtape relays the experiences and observations of a 
 black, queer man from Virginia who thought he was leaving racism and sexual 
 intolerance behind in the regions where he initially experienced them. 
 Plunge heart first into this emotive journey of growth, transformation of 
 pain into armor, and the lessons that can be learned when one is true to 
 themselves.\n https://www.indybay.org/newsitems/2018/05/28/18815308.php
SUMMARY:Poetic Observations of a Black, Queer Young Man
LOCATION:The Green Arcade\n1680 Market Street\nSan Francisco, CA  94102
URL:https://www.indybay.org/newsitems/2018/05/28/18815308.php
DTSTART:20180614T020000Z
DTEND:20180614T033000Z
END:VEVENT
END:VCALENDAR
