BEGIN:VCALENDAR
VERSION:2.0
X-WR-CALNAME:www.indybay.org
PRODID:-//indybay/ical// v1.0//EN
BEGIN:VEVENT
UID:Indybay-18809256
SEQUENCE:18951249
CREATED:20180517T162000Z
DESCRIPTION:Chandler Klang Smith, author of one of this year's hottest literary debuts 
 (The Sky is Yours) comes to Writers With Drinks, San Francisco's 
 longest-running spoken word show. She's joined by erotica legend Joanna 
 Angel, who's written a choose-your-own-adventure book. Also featuring 
 science writer Adam Becker (What Is Real?), poet Vernon Keeve III (Southern 
 Migrant Mixtape), comedian Molly Sanchez (Killing My Lobster) and tech 
 journalist Nitasha Tiku (Wired Magazine).\n 
 https://www.indybay.org/newsitems/2018/05/17/18809256.php
SUMMARY:Writers With Drinks featuring Chandler Klang Smith
LOCATION:The Make Out Room, 3225 22nd. St
URL:https://www.indybay.org/newsitems/2018/05/17/18809256.php
DTSTART:20180610T023000Z
DTEND:20180610T043000Z
END:VEVENT
END:VCALENDAR
