BEGIN:VCALENDAR
VERSION:2.0
X-WR-CALNAME:www.indybay.org
PRODID:-//indybay/ical// v1.0//EN
BEGIN:VEVENT
UID:Indybay-18808864
SEQUENCE:18950583
CREATED:20180430T032300Z
DESCRIPTION:Come out to support South Asian youth activists! This is a benefit concert 
 for Bay Area Solidarity Summer 2018 (BASS). BASS is a five day political 
 action camp for progressive South Asian youth who want to create social 
 change! Head over to Eli's on May 11 to party for a good 
 cause.\n\nwisechild x Kohinoorgasm x Pallavi x Ruby Mountain\nDoors @ 8 / 
 Show @ 8:30 / $10 adv or $12-$20 at the 
 door\n\n//HEADLINER// wisechild is a conceptual moniker that artist 
 simarpreet singh is currently producing music under. combining analog 
 sounds with digital technology, the wisechild sound is a meeting place of 
 an elegant, cinematic, nostalgic sound and a laid back california summer 
 album.\nwww.wisechildsounds.com\n\n//Kohinoorgasm// is the experimental pop 
 music project of Josephine Shetty. Shetty uses minimal dance beats and 
 softly sung vocals as a gentle way to move her anxious mind through an 
 overwhelming world. She has performed at SXSW, universities, museums, and 
 music venues across the US and Europe. Josephine is based in Los 
 Angeles.\nsoundcloud.com/kohinoorgasm\n\n//Pallavi// aka Fijiana is a 
 singer, rapper, poet born in Fiji Islands raised in Richmond, CA. They're 
 here to spread good vibes and also educate others about the importance of a 
 healthy environment as well as a healthy sense of spiritual self through 
 their artistry and music.\nSoundcloud.com/poojapallavi\n\n//Ruby Mountain// 
 is an Oakland–based vocalist and songwriter who creates love vibrations 
 and ascension with live looping, synth and eclectic beat 
 making. \nhttps://www.rubymountainmusic.com/\n 
 https://www.indybay.org/newsitems/2018/04/29/18808864.php
SUMMARY:BASS Benefit Show w/ Wisechild, Kohinoorgasm, Pallavi, Ruby Mountain
LOCATION:Eli's Mile High Club 3629 Martin Luther King Jr Way, Oakland, California 
 94609
URL:https://www.indybay.org/newsitems/2018/04/29/18808864.php
DTSTART:20180512T030000Z
DTEND:20180512T070000Z
END:VEVENT
END:VCALENDAR
