BEGIN:VCALENDAR
VERSION:2.0
X-WR-CALNAME:www.indybay.org
PRODID:-//indybay/ical// v1.0//EN
BEGIN:VEVENT
UID:Indybay-18808816
SEQUENCE:18950491
CREATED:20180427T232000Z
DESCRIPTION:"Womxn, Omen, Wǒmén in Chinatown: Reimagining Symbols of Power and 
 Access" is a project featuring three emerging female artists from Chinatown 
 -  Bijun Liang, Shisi Huang and Vida Kuang  - to explore gender and 
 struggles for equity in the neighborhood and beyond, while engaging the 
 community. All artworks are inspired by stories from Chinatown. Presented 
 by the Chinese Culture Center at 41 Ross as a part of "Building a Museum 
 Without Walls."\n         \nOpening Reception: Friday, May 
 4\n5-8pm\nExhibit dates: May 5-June 17\nThurs-Sunday, 11-4pm\n41 Ross 
 Alley, San Francisco, CA 94108\nLink 
 to:\nhttps://www.cccsf.us/women-in-chinatown/\n\n 
 https://www.indybay.org/newsitems/2018/04/27/18808816.php
SUMMARY:WOMXN, OMEN, WǑMÉN IN CHINATOWN Opening Reception
LOCATION:"Womxn, Omen, Wǒmén in Chinatown: Reimagining Symbols of Power and 
 Access" is a project featuring three emerging female artists from Chinatown 
 -  Bijun Liang, Shisi Huang and Vida Kuang  - to explore gender and 
 struggles for equity in the neighborhood and beyond, while engaging the 
 community. All artworks are inspired by stories from Chinatown. Presented 
 by the Chinese Culture Center at 41 Ross as a part of "Building a Museum 
 Without Walls."\n\nOpening Reception: Friday, May 4\n5-8pm\nExhibit dates: 
 May 5-June 17\nThurs-Sunday, 11-4pm\n41 Ross Alley, San Francisco, CA 
 94108\nLink to:\nhttps://www.cccsf.us/women-in-chinatown/\n
URL:https://www.indybay.org/newsitems/2018/04/27/18808816.php
DTSTART:20180505T000000Z
DTEND:20180505T030000Z
END:VEVENT
END:VCALENDAR
