BEGIN:VCALENDAR
VERSION:2.0
X-WR-CALNAME:www.indybay.org
PRODID:-//indybay/ical// v1.0//EN
BEGIN:VEVENT
UID:Indybay-18808689
SEQUENCE:18950303
CREATED:20180423T163800Z
DESCRIPTION:Join the mailing party for Slingshot issue #127 -- drop by for an hour or 6 
 hours anytime between 3 pm and 9 pm. Meet new people and listen to old, old 
 jokes. It is more fun than it sounds. \n\nWe will be mailing 12,000 copies 
 to all 50 US states and about 20 countries.\n\n30th anniversary issue -- 
 Slingshot has published since March, 1988.  \n 
 https://www.indybay.org/newsitems/2018/04/23/18808689.php
SUMMARY:Help Mail slingshot issue #127
LOCATION:Long Haul Infoshop - 3124 Shattuck Ave Berkeley - corner of Woolsey and 
 Shattuck - 2 blocks from Ashby BART
URL:https://www.indybay.org/newsitems/2018/04/23/18808689.php
DTSTART:20180429T220000Z
DTEND:20180430T040000Z
END:VEVENT
END:VCALENDAR
