BEGIN:VCALENDAR
VERSION:2.0
X-WR-CALNAME:www.indybay.org
PRODID:-//indybay/ical// v1.0//EN
BEGIN:VEVENT
UID:Indybay-18808630
SEQUENCE:18950232
CREATED:20180421T183500Z
DESCRIPTION:The Kurdish people -- divided among Turkey, Syria, Iraq, and Iran -- 
 have\nfound themselves on the frontlines of the fight against ISIS in the 
 aftermath\nof still more intense wars that had raged around them in all 
 four countries\nfor decades. While being battered by the storm, emerging 
 out of its eye are\nsome interesting fissures and pioneering social 
 experiments. Sharat G. Lin\nhas visited all of these countries, is a 
 political economist, and expert on labor\nmigration and the Middle 
 East.\n\nOpen to the public\nSuggested donation $5.  No one turned 
 away.\n\nCosponsored by the Monterey Peace and Justice Center, Peace 
 Coalition of Monterey County, Veterans for Peace Chapter 46, Women’s 
 International League for Peace & Freedom of Monterey County\n 
 https://www.indybay.org/newsitems/2018/04/21/18808630.php
SUMMARY:Sharat G. Lin: Kurds in the Eye of the Storm
LOCATION:Monterey Peace and Justice Center\n1364 Fremont Blvd\nSeaside CA 93955
URL:https://www.indybay.org/newsitems/2018/04/21/18808630.php
DTSTART:20180421T220000Z
DTEND:20180422T000000Z
END:VEVENT
END:VCALENDAR
