BEGIN:VCALENDAR
VERSION:2.0
X-WR-CALNAME:www.indybay.org
PRODID:-//indybay/ical// v1.0//EN
BEGIN:VEVENT
UID:Indybay-18808449
SEQUENCE:18949835
CREATED:20180414T062100Z
DESCRIPTION:Cabaret, the musical by John Kander, lyrics by Fred Ebb, and based on the 
 book by Joe Masteroff, is presented by Theatre of the Blue Moon, directed 
 by Erin Merritt, music direction by Scrumbly Koldewyn and featuring Clay 
 David as the Emcee, Emily Radosevich as Sally, and Donna Davis* as Fraulein 
 Schneider. 8pm on Fridays & Saturdays; 3pm on Sundays.\n\n“It was the end 
 of the world…and we were both fast asleep.” From the decadence and 
 decay of a country’s most liberal city rises a powerful force its 
 progressive populace can not controla desire to make a country great again, 
 but at what cost? Outside, life is disappointing. So, quick come inside 
 Berlin’s Kit Kat Klub of 1930, where the music is jumping, the girls and 
 boys are willing, and absolutely anything can happen.\n\nFridays and 
 Saturdays at 8:00, and Sundays at 3:00.\n\nPost-Show TalkBack (Sun. May 6) 
 and Pre-Show Talk (7:00, Fri, May 11) with the Director.\n\nTickets $20 
 adult, $15 students.\n\nTickets at the door or through Brown Paper Tickets: 
 https://www.brownpapertickets.com/event/3399501 .\n\nNo one turned away for 
 lack of funds.\n\nMore info at www.UUCB.org or 510-525-0302.\n\nWARNING: 
 This production may not be suitable for people under 18.\n\n*Member, Actors 
 Equity Association. An AEA-Approved Production.\n 
 https://www.indybay.org/newsitems/2018/04/13/18808449.php
SUMMARY:Cabaret, the Musical
LOCATION:Unitarian Universalist Church of Berkeley\n\n1 Lawson Road, Kensington, CA 
 94707
URL:https://www.indybay.org/newsitems/2018/04/13/18808449.php
DTSTART:20180505T030000Z
DTEND:20180505T060000Z
END:VEVENT
END:VCALENDAR
