BEGIN:VCALENDAR
VERSION:2.0
X-WR-CALNAME:www.indybay.org
PRODID:-//indybay/ical// v1.0//EN
BEGIN:VEVENT
UID:Indybay-18808447
SEQUENCE:18949817
CREATED:20180414T055000Z
DESCRIPTION:Color of Change and Black Lives Matter Sacramento are working to get 
 #Justice4StephonClark\n\nColor of Change's petition met its signature goal 
 and now it's time to deliver.\n\nThats where the community comes 
 in!\n\nDistrict Attorney Ann Marie Schubert, we need you to press charges 
 on these two officers now! We are tired of police in Sacramento murdering 
 us in the street with no consequences.\n\nJoin us!\n\nWe will be meeting at 
 the Attorney General's office (1300 I Street), and marching to the District 
 Attorney's office (901 G Street) to hand deliver these signatures.\n\nWhen: 
 Thursday April 19, 2018\nWhere: Attorney General's Office\nTime: 
 9:30-11am\nAddress: Starting at 1300 I Street, and arriving at 901 G 
 Street\n\n#ChargeThePolice\n#Justice4StephonClark\n 
 https://www.indybay.org/newsitems/2018/04/13/18808447.php
SUMMARY:Rally & Petition Delivery for Stephon Clark!
LOCATION:California Attorney General\n1300 I St, Sacramento
URL:https://www.indybay.org/newsitems/2018/04/13/18808447.php
DTSTART:20180419T163000Z
DTEND:20180419T180000Z
END:VEVENT
END:VCALENDAR
