BEGIN:VCALENDAR
VERSION:2.0
X-WR-CALNAME:www.indybay.org
PRODID:-//indybay/ical// v1.0//EN
BEGIN:VEVENT
UID:Indybay-18808368
SEQUENCE:18950248
CREATED:20180409T233200Z
DESCRIPTION:Dolores (Peter Bratt, 2017, 96min, USA)\n\nAmong the most important yet 
 least known activists in U.S. history, Dolores Huerta was an equal partner 
 in co-founding the first farm workers unions with Cesar Chavez, but her 
 enormous contributions have gone largely unrecognized. She started as a 
 young activist at Stockton High School, was the mother of eleven children, 
 and is now deservedly gaining credit for her many contributions in 
 empowering working people.\n\nSpeakers: Terry Sandoval, United Healthcare 
 Workers - West; Francisco Rodriguez, Pajaro Valley Federation of 
 Teachers\n\nEvent Hosts: Watsonville Film Festival, Pajaro Valley 
 Federation of Teachers\n\nPresented as part of the Reel Work May Day Labor 
 Film Festival\n https://www.indybay.org/newsitems/2018/04/09/18808368.php
SUMMARY:Dolores (about Dolores Huerta)
LOCATION:Appleton Grill\n410 Rodriguez St.\nWatsonville, CA 95076
URL:https://www.indybay.org/newsitems/2018/04/09/18808368.php
DTSTART:20180427T020000Z
DTEND:20180427T040000Z
END:VEVENT
END:VCALENDAR
