BEGIN:VCALENDAR
VERSION:2.0
X-WR-CALNAME:www.indybay.org
PRODID:-//indybay/ical// v1.0//EN
BEGIN:VEVENT
UID:Indybay-18807789
SEQUENCE:18948665
CREATED:20180325T073000Z
DESCRIPTION:Meeting of the Minds\nBenefit Open 
 Mic\n2-6pm\n\nCOMMUNICATION.\nHEALING.UNITY.SOLUTIONS\n\nSol 
 Collective\n2574 21st Street\n\nSunday\nMarch 25th, 2018\n\nAll proceeds go 
 to the family of Stephon Clark\n\n#JusticeForZoe\n\n\n 
 https://www.indybay.org/newsitems/2018/03/25/18807789.php
SUMMARY:Meeting of the Minds Benefit Open Mic
LOCATION:Sol Collective\n2574 21st St, Sacramento\n
URL:https://www.indybay.org/newsitems/2018/03/25/18807789.php
DTSTART:20180325T210000Z
DTEND:20180326T010000Z
END:VEVENT
END:VCALENDAR
