BEGIN:VCALENDAR
VERSION:2.0
X-WR-CALNAME:www.indybay.org
PRODID:-//indybay/ical// v1.0//EN
BEGIN:VEVENT
UID:Indybay-18807221
SEQUENCE:18947769
CREATED:20180307T234500Z
DESCRIPTION:The Santa Cruz Group of the Sierra Club Presents:\n\nTrail WITH 
 Transit\nThe Best Use of Our Rail Corridor\n\nThursday, March 8th at 7:00 
 PM\nThe Live Oak (Green) Grange\n\nWe are all suffering from traffic, 
 traffic and more traffic. As the planet heats up, how can we best use the 
 existing, publicly-owned rail corridor to fight climate change, provide 
 safe and affordable transportation for all and improve our collective 
 quality of life?\n\nDid you know the rail corridor runs from Davenport to 
 Watsonville and is located within 1 mile of 44 schools, 92 parks and half 
 our County's entire population? Did you know the Trail will begin 
 construction this year? Did you know the entire Trail could be done in ten 
 years?\n\nBring your curiosity and questions to this informative 
 presentation on the Trail with Transit options.\n\nThis will be a short 15 
 minute presentation followed by a 60 minute question & answer period with a 
 panel of experts.\n\nOur presenter is Mark Mesiti-Miller, Chair of Friends 
 of the Rail & Trail, a Sierra Club Executive Committee member and a 
 Professional Civil Engineer. \n 
 https://www.indybay.org/newsitems/2018/03/07/18807221.php
SUMMARY:Trail with Transit Presentation
LOCATION:The Live Oak (Green) Grange\n1900 17th Ave., Santa Cruz
URL:https://www.indybay.org/newsitems/2018/03/07/18807221.php
DTSTART:20180309T030000Z
DTEND:20180309T043000Z
END:VEVENT
END:VCALENDAR
