BEGIN:VCALENDAR
VERSION:2.0
X-WR-CALNAME:www.indybay.org
PRODID:-//indybay/ical// v1.0//EN
BEGIN:VEVENT
UID:Indybay-18807198
SEQUENCE:18947947
CREATED:20180306T200000Z
DESCRIPTION:Uncolonized is a short documentary film about a native family who decided 
 never to enroll their two daughters in the public school system, choosing 
 instead to homeschool them from birth. Chris is Potawatomi and Chasity is 
 Navajo. Their daughters Nathaney and Mimicah, ages 11 and 7 at the time of 
 filming, carry both of their parents' lineages in their blood, but also in 
 their way of being. \n\nThe film takes a critical look at the historical 
 experiences of native children inside of the US public education system and 
 brings clarity to the decisions of the family to keep their daughters out 
 of the public school system, and therefore keeping them UNCOLONIZED.\n 
 https://www.indybay.org/newsitems/2018/03/06/18807198.php
SUMMARY:Uncolonized
LOCATION:Santa Cruz Barrios Unidos\n1817 Soquel Ave, Santa Cruz, California 95062
URL:https://www.indybay.org/newsitems/2018/03/06/18807198.php
DTSTART:20180318T220000Z
DTEND:20180319T000000Z
END:VEVENT
END:VCALENDAR
