BEGIN:VCALENDAR
VERSION:2.0
X-WR-CALNAME:www.indybay.org
PRODID:-//indybay/ical// v1.0//EN
BEGIN:VEVENT
UID:Indybay-18807196
SEQUENCE:18948002
CREATED:20180306T195300Z
DESCRIPTION:Wasted – inspiring movie about food waste (and what to do about it) Live 
 Oak Grange – 6:30 potluck (optional), Live Oak Grange 1900 17th Ave. 
 Click here to watch the trailer\n 
 https://www.indybay.org/newsitems/2018/03/06/18807196.php
SUMMARY:Wasted (film about food waste)
LOCATION:Santa Cruz Live Oak Grange\n1900 17th Ave, Santa Cruz
URL:https://www.indybay.org/newsitems/2018/03/06/18807196.php
DTSTART:20180323T013000Z
DTEND:20180323T040000Z
END:VEVENT
END:VCALENDAR
