BEGIN:VCALENDAR
VERSION:2.0
X-WR-CALNAME:www.indybay.org
PRODID:-//indybay/ical// v1.0//EN
BEGIN:VEVENT
UID:Indybay-18807125
SEQUENCE:18947617
CREATED:20180303T235300Z
DESCRIPTION:Sunday March 4th 6pm\nFirst, they came for the MUSLIMS.\n\nThen they came 
 for the IMMIGRANTS.\n\nNOT THIS TIME!\n\nA Film Showing and Discussion:  
 \nThe Trump/Pence Regime Must Go!\nIn the Name of Humanity, \nWe REFUSE to 
 Accept a Fascist America\nA Better World is Possible \nA film of a talk by 
 Bob Avakian\n\nCould fascism happen here?\nHow serious a threat does the 
 Trump/Pence regime pose to humanity?\nWhat is the character of the regime - 
 is it fascist, and if it is, what are the implications?\nWhat are the roots 
 of this regime?\nIs it a terrible aberration, "more of the same"...or 
 something different still? \nWhat must be done to stop it? How?\nIs a 
 better world possible?\n\n 
 https://www.indybay.org/newsitems/2018/03/03/18807125.php
SUMMARY:Film Showing Bob Avakian's new speech--THE TRUMP/PENCE REGIME MUST GO! In The Name of Huma
LOCATION:Revolution Books, 2444 Durant Ave. Berkeley CA 94704
URL:https://www.indybay.org/newsitems/2018/03/03/18807125.php
DTSTART:20180305T020000Z
DTEND:20180305T040000Z
END:VEVENT
END:VCALENDAR
