BEGIN:VCALENDAR
VERSION:2.0
X-WR-CALNAME:www.indybay.org
PRODID:-//indybay/ical// v1.0//EN
BEGIN:VEVENT
UID:Indybay-18807092
SEQUENCE:18947590
CREATED:20180302T185300Z
DESCRIPTION:The NAACP Santa Cruz County Branch is pleased to announce that we will 
 celebrate 69 years of service to our community at our 2018 Freedom Fund 
 Gala, held on Saturday, April 21, 2018, beginning at 5:00 p.m. at the Dream 
 Inn, Santa Cruz.  This year our theme is, “The Fierce Urgency of Now, 
 Making Real the Promises of Democracy.”  Our keynote speaker is a great 
 civil rights activist and historian, the Reverend Dr. Amos C. Brown of San 
 Francisco.  Known among world leaders, Presidents, celebrities, and 
 academics alike for his trademark activism, intellectual discipline, and 
 masterful oratory, Dr. Brown is a legend in his own time.\n\nTicket price 
 is $65.00 and can be purchased at Bookshop Santa Cruz and online at 
 eventbrite.com.  \n 
 https://www.indybay.org/newsitems/2018/03/02/18807092.php
SUMMARY:NAACP 2018 Freedom Fund Gala
LOCATION:The Dream Inn, 175 West Cliff Ave., Santa Cruz
URL:https://www.indybay.org/newsitems/2018/03/02/18807092.php
DTSTART:20180422T000000Z
DTEND:20180422T030000Z
END:VEVENT
END:VCALENDAR
