BEGIN:VCALENDAR
VERSION:2.0
X-WR-CALNAME:www.indybay.org
PRODID:-//indybay/ical// v1.0//EN
BEGIN:VEVENT
UID:Indybay-18807026
SEQUENCE:18947475
CREATED:20180228T170800Z
DESCRIPTION:IF YOU CAN, PLEASE JOIN US AT SF ICE HEADQUARTERS, TO OBSERVE 11 MINUTES OF 
 SILENCE AND HOLD A POWERFUL AND DETERMINED PROTEST. \n\nAt work, at school, 
 on the street:\n\nGather and hold 11 minutes of silence for all eleven 
 million undocumented immigrants.\nThese are our sisters and 
 brothers!\n\nTake pictures and spread them on social media 
 using:\n#ImmigrantsStayTrumpPenceMustGo!\n\nStand against Trump’s 
 comprehensive and white supremacist attacks on immigrants and immigration. 
 Stand with DACA youth, with TPS recipients, with all those in detention 
 right now. Stand with those whose families have already been torn apart and 
 those who live each day with that fear. Trump’s “Wall” is a potent 
 symbol and instrument of terror that concentrates the shattering of old 
 norms and cementing Trump’s new order of: America First…Make America 
 Great White Again.”\n\nThis all-around assault on immigrants is a horror. 
 It is also the linchpin and battering ram of the whole fascist program 
 being hammered into place by the Trump/Pence Regime. Fascism is a 
 qualitative change in how society is governed. Fascism foments and relies 
 on xenophobic nationalism, racism, misogyny, and the aggressive 
 re-institution of oppressive “traditional values.” Once in power, 
 fascism essentially eliminates traditional democratic rights.\n\nThis 
 Nightmare Must End: The Trump/Pence Regime Must Go!\nIn the Name of 
 Humanity, We REFUSE to Accept a Fascist America!\n 
 https://www.indybay.org/newsitems/2018/02/28/18807026.php
SUMMARY:Immigrants Stay, Trump/Pence Must Go! Gather & Protest at ICE HQ
LOCATION:630 Sansome St, San Francisco, CA 94111-2205
URL:https://www.indybay.org/newsitems/2018/02/28/18807026.php
DTSTART:20180301T203000Z
DTEND:20180301T223000Z
END:VEVENT
END:VCALENDAR
