BEGIN:VCALENDAR
VERSION:2.0
X-WR-CALNAME:www.indybay.org
PRODID:-//indybay/ical// v1.0//EN
BEGIN:VEVENT
UID:Indybay-18806968
SEQUENCE:18947368
CREATED:20180226T023300Z
DESCRIPTION:We’re back at it again with a series of seminars The Isms of March as 
 part of our Thinking Critically about Society series. We’ll be joined by 
 CSU Monterey Bay professors, local poets, and critically thinkers just like 
 you to help tackle some of the different ideologies and theories that 
 we’ve been hearing about.\n\nFriday 9 March – 7pm: What is 
 Anarchism?\nFacilitated by Michael Frederiksen\n\nWhat do people mean when 
 they say “Anarchism”? Between the international Occupy movement, and 
 questions surrounding capitalism, Anarchism has been a topic that has been 
 much in the media of 2017. This seminar will introduce you to the 
 philosophies of Anarchism through key readings, and then use these 
 philosophies to discuss current events.\n\nSuggested reading for the 
 session:\n1.) Howard Zinn – “Anarchism”. \n2.) Emma Goldman – 
 “Anarchism: what it really stands for”. \n3.) Noam Chomsky – “On 
 Anarchism”. \n4.) Encyclopedia Brtiannica, 1905 – “Anarchism”. 
 \n5.) L. Susan Brown – “Does Work Really Work?”, Kick it Over, #35. 
 \n\nAll readings available for free at oldcapitolbooks.com\n\nOther events 
 in the series:\nFriday 9 March –  7pm: What is Anarchism?\nFriday 16 
 March – 7pm: Understanding Neoliberalism\nFriday 23 March – 7pm: 
 Reading Marx\nFriday 30 March – 7pm: Exploring Primitivism\n\n 
 https://www.indybay.org/newsitems/2018/02/25/18806968.php
SUMMARY:The Isms of March! : Anarchism (Thinking Critically about Society)
LOCATION:Old Capitol Books, 559 Tyler Street, downtown Monterey
URL:https://www.indybay.org/newsitems/2018/02/25/18806968.php
DTSTART:20180310T030000Z
DTEND:20180310T043000Z
END:VEVENT
END:VCALENDAR
