BEGIN:VCALENDAR
VERSION:2.0
X-WR-CALNAME:www.indybay.org
PRODID:-//indybay/ical// v1.0//EN
BEGIN:VEVENT
UID:Indybay-18806791
SEQUENCE:18947059
CREATED:20180217T171700Z
DESCRIPTION:"Everything You Love Will Burn" takes readers into the dark, paranoid 
 underbelly of America, where the white race feels under threat, with the 
 enemy everywhere.\n\nVegas Tenold is an award-winning journalist, born and 
 raised in Norway, now living in Brooklyn, who infiltrated three American 
 white nationalist groups—the KKK, the National Socialist Movement, and 
 the Traditionalist Workers Party.  He'll be in conversation with Kevin 
 Cartwright, KPFA Radio producer and communications strategist.\n\nTickets 
 at independent bookstores and brownpapertickets.com ($12)\n 
 https://www.indybay.org/newsitems/2018/02/17/18806791.php
SUMMARY:Everything You Love Will Burn: Inside the Rebirth of White Nationalism
LOCATION:St. John's Presbyterian Church, 2727 College Avenue, Berkeley
URL:https://www.indybay.org/newsitems/2018/02/17/18806791.php
DTSTART:20180308T033000Z
DTEND:20180308T053000Z
END:VEVENT
END:VCALENDAR
