BEGIN:VCALENDAR
VERSION:2.0
X-WR-CALNAME:www.indybay.org
PRODID:-//indybay/ical// v1.0//EN
BEGIN:VEVENT
UID:Indybay-18806664
SEQUENCE:18946820
CREATED:20180212T054100Z
DESCRIPTION:Slingshot turns 30 years old - 1988 - 2018\n\nHear authors from the last 30 
 years read a few really old articles and see if the articles still make 
 sense nowadays\n\nplus (as always) Vegan chocolate cake, display of back 
 issues, door prizes, maybe stacks, maybe music\n\n\n 
 https://www.indybay.org/newsitems/2018/02/11/18806664.php
SUMMARY:Party for 30 years of Slingshot newspaper publishing
LOCATION:Long Haul Infoshop - 3124 Shattuck Ave - Berkeley - 510 540 0751 - 2 blocks 
 from Ashby BART - across from La Pena - corner of Woolsey and Shattuck 
URL:https://www.indybay.org/newsitems/2018/02/11/18806664.php
DTSTART:20180312T020000Z
DTEND:20180312T040000Z
END:VEVENT
END:VCALENDAR
