BEGIN:VCALENDAR
VERSION:2.0
X-WR-CALNAME:www.indybay.org
PRODID:-//indybay/ical// v1.0//EN
BEGIN:VEVENT
UID:Indybay-18806290
SEQUENCE:18946275
CREATED:20180129T232100Z
DESCRIPTION:January 31st is Ahed Tamimi’s 17th Birthday. \n\nShe is sitting in an 
 Israeli military prison for slapping Israeli soldiers. Her cousin had been 
 shot in the head by a rubber coated steel bullet!\n\nRelease her now! Drop 
 all charges!\n https://www.indybay.org/newsitems/2018/01/29/18806290.php
SUMMARY:Rally - Free Ahed Tamimi!
LOCATION:Oakland Federal Building, 1301 Clay St., Oakland
URL:https://www.indybay.org/newsitems/2018/01/29/18806290.php
DTSTART:20180201T003000Z
DTEND:20180201T020000Z
END:VEVENT
END:VCALENDAR
