BEGIN:VCALENDAR
VERSION:2.0
X-WR-CALNAME:www.indybay.org
PRODID:-//indybay/ical// v1.0//EN
BEGIN:VEVENT
UID:Indybay-18805894
SEQUENCE:18945598
CREATED:20180116T194600Z
DESCRIPTION:Norma Rae works long hours in horrible working conditions for little pay at 
 a local textile mill in North Carolina. Inspired by a visiting union 
 organizer, Norma Rae is determined to organize her co-workers at the 
 factory to improve working conditions. Based on the true story of Crystal 
 Lee Sutton, this 1979 film shows how women and all workers can win when 
 organized.\n\nIn the wake of the recent #MeToo movement, we must increase 
 the momentum and continue to organize for our rights. Following this 
 year’s Women’s March, we invite you to watch this historic film and 
 discuss how we can continue the fight for women’s rights. \n\n$3-10 
 donation, no one turned away for lack of funds. \nRefreshments provided. 
 Wheelchair accessible.\n 
 https://www.indybay.org/newsitems/2018/01/16/18805894.php
SUMMARY:Women in Struggle Film Showing of "Norma Rae"
LOCATION:2969 Mission St. near 26th St. 
URL:https://www.indybay.org/newsitems/2018/01/16/18805894.php
DTSTART:20180124T030000Z
DTEND:20180124T050000Z
END:VEVENT
END:VCALENDAR
