BEGIN:VCALENDAR
VERSION:2.0
X-WR-CALNAME:www.indybay.org
PRODID:-//indybay/ical// v1.0//EN
BEGIN:VEVENT
UID:Indybay-18805727
SEQUENCE:18945364
CREATED:20180107T213600Z
DESCRIPTION:Jan 11 in Piedmont  at Ellen Driscoll Playhouse at 7 pm ; also Jan 13 
 showing in Oakland at The New Parkway at 3 pm\n\n"The House We Live In" 
 exposes how government policies, particularly in housing, adversely affect 
 minorities.  After World War II, with the support of the GI Bill, housing 
 boomed, and segregated suburbs popped up all over the country.  Federal 
 government regulations directed government-guaranteed loans to white 
 homeowners and kept non-whites out.\n\n"The Arc of Justice" follows the New 
 Communities, Inc., and civil rights activists from the l960's who purchased 
 land in Georgia to create a new community and facilitate economic 
 development and greater power for African Americans.  \n\nThe films will be 
 followed by a speaker and discussion.\n\nFree, no RSVP needed.\n 
 https://www.indybay.org/newsitems/2018/01/07/18805727.php
SUMMARY:Diversity Films 'The House We Live In' & 'Arc of Justice'
LOCATION:Ellen Driscoll Playhouse\n325 Highland Ave\nPiedmont, CA 94611
URL:https://www.indybay.org/newsitems/2018/01/07/18805727.php
DTSTART:20180112T030000Z
DTEND:20180112T050000Z
END:VEVENT
END:VCALENDAR
