BEGIN:VCALENDAR
VERSION:2.0
X-WR-CALNAME:www.indybay.org
PRODID:-//indybay/ical// v1.0//EN
BEGIN:VEVENT
UID:Indybay-18805546
SEQUENCE:18945036
CREATED:20171228T234600Z
DESCRIPTION:The NAACP Santa Cruz County Branch and the Resource Center for Nonviolence 
 Project ReGeneration, will co-sponsor an afternoon of activities for youth 
 of all ages.  The activities will include interactive booths from youth 
 activist groups, food, music, art, expression and education with an 
 emphasis on empowering youth.  The event will be held at the Resource 
 Center for Nonviolence, 612 Ocean Street, Santa Cruz.  This event is 
 FREE.\n\n"Make a career of humanity, commit yourself to the noble struggle 
 for human rights.  You will make a greater person of yourself, a greater 
 nation of your country and a finer world to live in."  MLK Jr., 1959\n\n 
 https://www.indybay.org/newsitems/2017/12/28/18805546.php
SUMMARY:NAACP Annual Youth Day Event - Yes, We March for the Dream!
LOCATION:Resource Center for Nonviolence, 612 Ocean Street, Santa Cruz
URL:https://www.indybay.org/newsitems/2017/12/28/18805546.php
DTSTART:20180113T200000Z
DTEND:20180114T000000Z
END:VEVENT
END:VCALENDAR
