BEGIN:VCALENDAR
VERSION:2.0
X-WR-CALNAME:www.indybay.org
PRODID:-//indybay/ical// v1.0//EN
BEGIN:VEVENT
UID:Indybay-18805300
SEQUENCE:18944750
CREATED:20171214T221100Z
DESCRIPTION: EVERYONE UNITE AGAINST THE ELECTORAL FRAUD IN HONDURAS!\n\nNext Friday  
 December 15/ 2017, a rally(vigil) will be held in San Francisco CA, 
 organized by Los Hondureños Unidos Contra la Dictadura del Área de la 
 Bahía (Bay Area Hondurans United Against the Dictatorship).\n \nThere will 
 be an rally to raise awareness about and solidarity with the fight to 
 defend the victory of Salvador Nasralla, candidate of the Alianza Against  
 the Dictatorship of Honduras.\n\nWe call on the whole community to join us 
 in solidarity!\n\nDate: Friday December 15/ 2017   4 - 6 pm\nAddress: 24th 
 and Mission St. San Francisco, CA 94110\nTime: 4:00-6:00 PM.\nFor more 
 information call: (415) 794-6025. (415) 994-3711\n\n 
 https://www.indybay.org/newsitems/2017/12/14/18805300.php
SUMMARY:Protest Electoral Fraud in Honduras
LOCATION:24th and Mission Street, San Francisco
URL:https://www.indybay.org/newsitems/2017/12/14/18805300.php
DTSTART:20171216T000000Z
DTEND:20171216T020000Z
END:VEVENT
END:VCALENDAR
