BEGIN:VCALENDAR
VERSION:2.0
X-WR-CALNAME:www.indybay.org
PRODID:-//indybay/ical// v1.0//EN
BEGIN:VEVENT
UID:Indybay-18805293
SEQUENCE:18944697
CREATED:20171213T235600Z
DESCRIPTION:Film show, discussion & potluck  \n\nLes Prostitutées de Lyon Parlent  – 
 The Prostitutes of Lyon Speak  \nby Carole Roussopoulos\nOn June 3, 1975, 
 150 prostitute women occupied one of the main churches in the center of 
 Lyon, France.  A banner was hung over the church façade ‘Our children 
 don’t want their mothers in prison.’  The occupation was sparked by the 
 brutal torture and murder of sex workers, and a police crackdown.  Instead 
 of going after the murderer/s, the police were handing out fines and 
 threatening women with prison.  Within weeks churches had been occupied all 
 over France including in Paris.  The church occupations sparked the modern 
 day sex workers rights movement. 45 min  \n\nTales of the Grim Sleeper by 
 Nick Broomfield (excerpts)\nClips from Tales of the Grim Sleeper - a 
 devastating expose of the lack of value police placed on the lives of Black 
 women, many of whom were sex workers working the street in Los Angeles.  It 
 documents the case of the serial murders of Black women in LA, & law 
 enforcement and officials’ criminal neglect, also campaigning by the 
 Black Coalition Fighting Back Serial Murders for police accountability and 
 justice for the victims and their families.   \n\n 
 https://www.indybay.org/newsitems/2017/12/13/18805293.php
SUMMARY:Bay Area Int'l Day to End Violence against Women
LOCATION:Center for Sex & Culture,  \n1349 Mission St. (bet. 9th & 10th Sts.)
URL:https://www.indybay.org/newsitems/2017/12/13/18805293.php
DTSTART:20171217T220000Z
DTEND:20171218T000000Z
END:VEVENT
END:VCALENDAR
