BEGIN:VCALENDAR
VERSION:2.0
X-WR-CALNAME:www.indybay.org
PRODID:-//indybay/ical// v1.0//EN
BEGIN:VEVENT
UID:Indybay-18805172
SEQUENCE:18944500
CREATED:20171209T020500Z
DESCRIPTION:Speakout: We refuse your misogynist anti-LGBTQ fascist theocracy\n#NoMoore! 
 #MeToo Refuse A Fascist Theocracy! End Sexual Predation and the 
 Enslavement of Women This Nightmare Must End: The Trump Regime Must 
 Go!  On Tuesday December 12, a high-stakes election is taking place in 
 Alabama between Republican Roy Moore and Democrat Doug Jones.   Roy 
 Moore is a Christian fascist theocrat who has twice been removed as a judge 
 for attempting to remove the separation between church & state by placing 
 “Biblical Law” above Constitutional protections . He has galvanized a 
 fascist base & has been endorsed by an admitted sexual-predator, Donald 
 Trump.   Some of Moore’s most powerful supporters have declared that 
 even if the allegations that he sexually molested girls are true, he should 
 still be elected to the Senate. Others have even used the Bible to justify 
 Moore’s predation of young girls.   It is dangerous that Moore is 
 being treated as a “legitimate” candidate & that even most criticism of 
 him ignores his role in setting up a theocratic government.  Trump, 
 Pence and Roy Moore represent an unholy American fascism; rooted in white 
 supremacy, patriarchy, extreme religious fundamentalism, and America-First 
 chauvinism. Trump has packed the federal courts with right-wing judges and 
 filled his cabinet with religious fanatics. Mike Pence opposes abortion and 
 birth control; as Indiana governor he oversaw the imprisonment of Purvi 
 Patel for allegedly self-inducing an abortion. The election of Moore would 
 represent an extremely dangerous leap in the consolidation of fascism in 
 America. Even if defeated, Moore's campaign has accelerated the 
 mainstreaming and normalization of theocratic fascism.  Here are just a 
 few examples of Roy Moore’s outrageous history:  - Moore installed a 
 two-ton monument of the 10 Commandments on Alabama Supreme Court property 
 and defied orders from a higher court to remove it. For this he was removed 
 from the bench.  - Moore was removed a second time from the bench for 
 ordering judges in Alabama to defy the Supreme Court by refusing to issue 
 marriage licenses to same-sex couples. Moore said the Supreme Court 
 decision legalizing same-sex marriage was “worse” than the pro-slavery 
 Dred Scott decision of 1857.  - Moore wants to criminalize abortion in 
 all circumstances.  - Moore has promoted the racist, xenophobic lie 
 that Barack Obama was not born in the U.S.  Millions of people do NOT 
 want to live in Moore's kind of society, and feel it is a nightmare. We 
 must reach them and challenge them to act. Everyday this regime is in power 
 they are hammering their agenda into place & it becomes normalized. Waiting 
 for elections in 2018 or 2020 endangers humanity. The Trump/Pence Regime 
 Must Go! Only the people acting in our millions in determined & continuous 
 protest can end the nightmare.  On December 12 all those who want this 
 nightmare to end-- Take to the streets to demand that the Trump/Pence 
 Regime Must Go!— In the Name of Humanity, We Refuse to Accept a Fascist 
 America.   Wear your Handmaid’s Tale 
 costumes Refusefascism.org\n\nhttps://www.facebook.com/events/152123558761505\nnorcal@refusefascism.org\n510-253-5551\nFacebook: 
 @RefuseFascismBayArea\nTwitter: @SFRefuseFascism\n\n 
 https://www.indybay.org/newsitems/2017/12/08/18805172.php
SUMMARY:Speakout: We refuse your misogynist anti-LGBTQ fascist theocracy
LOCATION:Harvey Milk Plaza 2401 Market St SF CA 94114
URL:https://www.indybay.org/newsitems/2017/12/08/18805172.php
DTSTART:20171213T013000Z
DTEND:20171213T033000Z
END:VEVENT
END:VCALENDAR
