BEGIN:VCALENDAR
VERSION:2.0
X-WR-CALNAME:www.indybay.org
PRODID:-//indybay/ical// v1.0//EN
BEGIN:VEVENT
UID:Indybay-18805140
SEQUENCE:18944456
CREATED:20171207T014100Z
DESCRIPTION:Sunday Morning at the Marxist Library\n\nNorth Korea: Land of the Soft 
 Spoken Women\n\nMehmet Bayram made his bucket list come true when he 
 visited the mysterious land of North Korea.  His visit coincided with the 
 7th Congress of the Workers' Party of Korea, an event not held since 
 1980.  He will share his experience and photographs during the time he was 
 in the Democratic Peoples' Republic of Korea.  Daily lives, human faces, 
 personal interactions with North Koreans will be the topic of the 
 presentation.\n\nSun, Dec 10, 2017 – 10:30am-12:30pm\nNiebyl-Proctor 
 Marxist Library\n6501 Telegraph Ave, Oakland (just North of Alcatraz 
 Ave.)\n\nFREE - but hat will be passed for donations to ICSS & 
 NPML\n\nAbout Sunday Morning at the Marxist Library\nA weekly discussion 
 series inspired by our respect for the work of Karl Marx and our belief 
 that his work will remain as important for the class struggles of the 
 future as they have been for the past. \n\nFor info or to subscribe to our 
 weekly announcements, \nCall Gene Ruyle at 510-332-3865 or email: 
 cuyleruyle@mac.com\nFor our full schedule, go to icssmarx.org \n\nLabor 
 donated by ICSS volunteers\n\n\n[ IMAGE: North and South Korea gymnasts at 
 the Rio 2016 Olympic Games show unity in the form of a selfie. ]\n 
 https://www.indybay.org/newsitems/2017/12/06/18805140.php
SUMMARY:North Korea: Land of the Soft Spoken Women
LOCATION:Niebyl-Proctor Marxist Library\n6501 Telegraph Ave, Oakland (just North of 
 Alcatraz Ave.)
URL:https://www.indybay.org/newsitems/2017/12/06/18805140.php
DTSTART:20171210T183000Z
DTEND:20171210T203000Z
END:VEVENT
END:VCALENDAR
