BEGIN:VCALENDAR
VERSION:2.0
X-WR-CALNAME:www.indybay.org
PRODID:-//indybay/ical// v1.0//EN
BEGIN:VEVENT
UID:Indybay-18805107
SEQUENCE:18944377
CREATED:20171206T005700Z
DESCRIPTION:This month, Liberated Lens is excited to present 2 anti-war films by David 
 Zeiger for our December film night theme: "F#@%^n' Peace On Earth 
 Already!"\n\n“Sir No Sir” is an award-winning documentary that tells 
 the long suppressed story of the GI movement to end the war in Vietnam. 
 This is the story of one of the most vibrant and widespread upheavals of 
 the 1960’s -- one that had a profound impact on American society yet has 
 been virtually obliterated from the collective memory of that time.\n\nIn 
 the 1960’s, an anti-war movement emerged that altered the course of 
 history. This movement didn’t take place on college campuses, but in 
 barracks and on aircraft carriers. It flourished in army stockades, navy 
 brigs, and in the dingy towns that surround military bases. It penetrated 
 elite military colleges like West Point. And it spread throughout the 
 battlefields of Vietnam. It was a movement no one expected, least of all 
 those in it.  Hundreds went to prison and thousands into exile. And by 
 1971 it had, in the words of one colonel, infested the entire armed 
 services. Yet today few people know about the GI movement against the war 
 in Vietnam.\n\nVeterans of the Vietnam War will be in attendance for Q&A 
 about the topics presented in the film.\n\nDoors at 6pm, film at 6:30pm. $5 
 donation, no one turned away. Free popcorn as always!\n 
 https://www.indybay.org/newsitems/2017/12/05/18805107.php
SUMMARY:Liberated Lens film night: "Sir No Sir!"
LOCATION:Omni Commons, 4799 Shattuck Ave, Oakland 94609
URL:https://www.indybay.org/newsitems/2017/12/05/18805107.php
DTSTART:20171218T023000Z
DTEND:20171218T050000Z
END:VEVENT
END:VCALENDAR
