BEGIN:VCALENDAR
VERSION:2.0
X-WR-CALNAME:www.indybay.org
PRODID:-//indybay/ical// v1.0//EN
BEGIN:VEVENT
UID:Indybay-18804996
SEQUENCE:18944199
CREATED:20171130T180900Z
DESCRIPTION:Specters of Revolt: On the Intellect of Insurrection and Philosophy from 
 Below by Richard Gilman-Opalsky revisits non-vanguardist, autonomous 
 Marxism via a panoply of post-modernist and autonomist Marxist philosophies 
 from Guy Debord and Felix Guattari to Michel Foucault and George 
 Katsiaficas. However, as its title suggests, Jacques Derrida’s Specters 
 of Marx in some ways structures Gilman-Opalsky’s whole commentary even as 
 Raya Dunayevskaya’s perspective that philosophy has to “hear what is 
 upsurging from below” helps shape his conclusion.\n\nToday the meaning of 
 history and the idea of freedom pervade street battles in Charlottesville 
 and Berkeley. What is Dunayevskaya’s view of philosophy's contribution to 
 that aspect of the struggle? How does it differ from Derrida’s?\n 
 https://www.indybay.org/newsitems/2017/11/30/18804996.php
SUMMARY:Specters of Revolt
LOCATION:Niebyl-Proctor Library\n6501 Telegraph Ave. (at Alcaraz)\nOakland, Ca.
URL:https://www.indybay.org/newsitems/2017/11/30/18804996.php
DTSTART:20171211T023000Z
DTEND:20171211T043000Z
END:VEVENT
END:VCALENDAR
