BEGIN:VCALENDAR
VERSION:2.0
X-WR-CALNAME:www.indybay.org
PRODID:-//indybay/ical// v1.0//EN
BEGIN:VEVENT
UID:Indybay-18804972
SEQUENCE:18944153
CREATED:20171129T202200Z
DESCRIPTION:The careers of numerous professionals are staggering or gone kaput over 
 allegations and, in some instances proven charges of sexual harassment. The 
 end of the culture of countenancing, indulging, and accommodating sexual 
 harassment would seem to require the somewhat brutal end of professional 
 careers of those who have lived into the current and correct expectation 
 that "acting on impulse or design" is unacceptable.\n\nThe chief argument 
 thrown up against shifting public policy towards socializing land values is 
 that the current generation of real estate owners who invested in their 
 land expecting to see a private gain will be financially harmed by 
 implementing a property tax that recovers the value of land for society. 
 \n\nCome along on a walking tour surveying San Francisco social movements 
 that posits that just as ending systemically exonerated sexual predation 
 requires the severe end of many a professional career, so the end of 
 rampant, normalized theft of land values requires a particular generation 
 to amputate its private investment in owning Planet Earth.\n\nFREE, but 
 unsettling.\n\n--\n\n[ David Giesen preaches the benefits of a land value 
 tax on his “Land, Buildings, and Revolutionaries” walking tour. ]\n 
 https://www.indybay.org/newsitems/2017/11/29/18804972.php
SUMMARY:Careers will tumble, privatized land values will fall: the walking tour
LOCATION:American Youth Hostel\n312 Mason Street\nSan Francisco
URL:https://www.indybay.org/newsitems/2017/11/29/18804972.php
DTSTART:20171202T170000Z
DTEND:20171202T200000Z
END:VEVENT
END:VCALENDAR
