BEGIN:VCALENDAR
VERSION:2.0
X-WR-CALNAME:www.indybay.org
PRODID:-//indybay/ical// v1.0//EN
BEGIN:VEVENT
UID:Indybay-18804910
SEQUENCE:18944232
CREATED:20171127T121400Z
DESCRIPTION:12/2-3 LA Binational Conference To Cancel NAFTA and Unite Workers Of Mexico 
 and the US\nBINATIONAL CONFERENCE PROGRAM\n\nFRIDAY, DECEMBER 1\n\n \n• 
 RECEPTION FOR INTERNATIONAL GUEST SPEAKERS / Meet and Greet (7 pm to 9 
 pm)\n\n \n[Doubletree Hotel, 2 Civic Plaza Dr. Carson, CA]\n\n* * * * 
 *\n\nSATURDAY, DECEMBER 2\n\n \n[Saturday plenary sessions and workshops 
 all at California State University-Dominguez Hills, Loker Student Union, 
 3rd Floor, 1000 E. Victoria St., Carson, CA]\n\n \n• REGISTRATION & 
 SIGN-UP FOR WORKSHOPS (9 am to 9:30 am)\n\n \n• MORNING PLENARY 
 SESSION\n\n(9:30 am to 11 am)\n\n \n* Chairpersons opening session: \n\n- 
 Nativo Lopez, Senior Adviser, Hermandad Mexicana-La Original\n\n- Ivonne 
 Heinze Balcazar, Director, Department of Modern Languages, CSU-Dominguez 
 Hills; Women’s Caucus Rep, Dominguez Hills chapter of the California 
 Faculty Association, Carson, CA\n\n \n* Welcoming remarks\n\n- Claudia 
 Mendoza, Executive Board, Dominguez Hills chapter of the California Faculty 
 Association, Carson, CA\n\n \n* Keynote Speakers\n\n* Rusty Hicks, 
 Executive Secretary-Treasurer, Los Angeles County Federation of Labor, 
 AFL-CIO (On the fight against NAFTA and for labor rights)\n\n* Baldemar 
 Velasquez, President, Farm Labor Organizing Committee, FLOC, AFL-CIO, 
 Toledo, OH (On the fight against union-busting of FLOC in North Carolina 
 and the JR Reynolds “Vuse” Boycott)\n\n* Ivonne Heinze Balcazar, 
 Director, Department of Modern Languages, CSU-Dominguez Hills; Exec. Bd., 
 CFA CSUDH, Carson, CA (On language & culture in the era of NAFTA)\n\n* Al 
 Rojas, Second Vice Pres., Sacramento LCLAA, AFL-CIO; Founding member and 
 organizer, United Farm Workers (In support of Conference’s main 
 demands)\n\n* Carmen Mata, Representative, Alianza de Organizaciones and 
 SINDJA farmworkers’ union, San Quintin, Baja California, Mexico (On the 
 struggle of the San Quintin farmworkers)\n\n* Victor Enrique Favela Rocha, 
 International Representative, National Telephone Workers Union of the 
 Mexican Republic and UNT, Mexico (On the fight against NAFTA and 
 Privatizations in Mexico)\n\n* Luis Angel Reyes Savalza, Immigration 
 attorney; Director, Community Empowerment (On the fight against 
 deportations and the Wall of Shame, and for Papers for All and a Clean 
 DREAM act)\n\n* Maria Rivera, Asamblea Popular de Tijuana, Mexico (On 
 behalf of the Mexican BinationaL Conference Mexico Organizing 
 Committee)\n\n* Scott Houldieson, Vice President, UAW 551, Chicago; 
 Convener, Workers Solidarity Action Network (On the struggle against NAFTA 
 and for trade union rights in the US)\n\nPLUS\n- Greetings from San 
 Quintin, Baja California, Mexico, farmworker leaders via skype, and\n\n- 
 Greetings from Binational Conference Organizing Committee, Tuxtla 
 Gutierrez, Chiapas, via skype \n\n \n* * * * * 
 * * * * * * *\n\n \n\n• FIRST SESSION OF WORKSHOPS\n\n(11:15 
 am to 12:45 pm) \n\n \nThree concurrent workshops\n\n \n1) The Fight to 
 Cancel NAFTA, CAFTA and all bilateral “free trade” agreements — and 
 cross-border organizing: Next steps\n\n* Luis Carlos Haro, OPT Tijuana, 
 Coordinator, Bina\n\n* William I. Robinson, Professor of Sociology, 
 University of California at Santa Barbara\n\n• Alan Benjamin, 
 Representation, San Francisco Labor Council (AFL-CIO)\n\n* Yesenia 
 Portillo, LA CISPES\n\n* Juan José Bocanegra, El Comité, Seattle, WA\n\n 
 \n*  *  *\n\n \n\n2) The Fight Against the Privatization of Public 
 Education in the U.S. and Mexico\n\n* Rosemary Lee, Tri-National Coalition 
 Against Privatization of Education, United Teachers of Los Angeles\n\n* 
 Leonor Marisela Ortega Domínguez, Professor, UABC, Mexicali, Mexico \n\n* 
 Michael Dominguez, UTLA Substitute Teacher \n\n* Junnie Verceles, UTLA 
 chair Unjustly Housed Teachers Committee\n\n* Dean Murakami, President, Los 
 Rios College Federation of Teachers AFT 2279; Vice President, Sacramento 
 Central Labor Council\n\n\n\n*  *  *\n\n\n\n3) The Fight Against the Wall 
 of Shame & Deportations,   for a Clean Dream Act, and in defense of 
 Temporary Protective Status for Central American and Caribbean 
 refugees\n\n* Melina Juarez, PhD candidate Political Science; Raza Graduate 
 Student Association, University of New Mexico\n\n* Angela Sanbrano, 
 CARECEN; Central American refugee and anti-CAFTA organizer \n\n* Xochilt 
 Sanchez, LA CISPES\n\n* Sergio Trujillo, DACA recipient, Hermandad 
 Mexicana\n\n* Carlos Arango, CASA Aztlan, Chicago\n\n \n\n• LUNCH (12:45 
 pm to 2 pm)\n\n \n• SECOND SESSION OF WORKSHOPS\n\n(2 pm to 3:30 pm)\n\n 
 \nThree concurrent workshops\n\n \n4) The Struggle for Women’s Rights in 
 the Era of NAFTA\n\n* Maria Rosa Ibarra, UFCW, Los Angeles\n\n* María 
 Rivera, Asamblea Popular de Tijuana, Mexico\n\n* Rose Rangel Vergara, Exec. 
 Bd., National LCLAA; President, California State LCLAA (AFL-CIO)\n\n* 
 Rosario Ramirez, SEIU United Service Workers West, Sacramento, CA\n\n* 
 Carmen Mata, Alianza de Organizaciones, San Quintin, Baja California, 
 Mexico\n\n*  *  *\n\n5) The Struggle for Labor Rights and 
 Unionization on Both Sides of the Border (fight against the labor 
 “reform” and union-busting in Mexico; & the fight  to stop “right to 
 work”, Janus and ICE in the U.S.)\n\n* Carlos Taboada, Retired UTR 
 Teacher, Richmond, CA\n\n* David Huerta, SEIU, Justice for Janitors\n\n* 
 Chloe Osmer, Organizing Director,, LA County Federation of Labor, 
 AFL-CIO\n\n* Fátima García, Secretary, Sacramento LCLAA; member, SEIU 
 USWW\n\n* Maquiladora worker, Cd. Juarez, Chihuaha, Mexico\n\n\n\n*  *  
 *\n\n\n\n6) The Fight for Quality Public Healthcare on both sides of the 
 border (halting and reversing the privatization of IMSS and ISSSTE in 
 Mexico; defense of Medicaid and fight for single payer in the U.S.)\n\n* 
 Karen Bernal, Chair, Progressive Caucus, California Democratic Party; 
 community activist, Sacramento, CA\n\n* Desiree Rojas, President, 
 Sacramento LCLAA (AFL-CIO)\n\n* Jerry Levinsky, member, SEIU 509; Steering 
 Committee, Labor Fightback Network, Amherst, MA\n\n* Leonardo Olivares 
 Marin, OPT Tijuana\n\n* * * * * * * * * *\n\n• THIRD 
 SESSION OF WORKSHOPS\n\n(3:45 pm to 5:15 pm)\n\nThree concurrent 
 workshops\n\n7) The Nuts and Bolts of Organizing Boycotts, Nationally and 
 Internationally: The Driscoll’s Boycott and the “Vuse” JR Reynolds 
 Boycott\n\n* Baldemar Velasquez, President, FLOC, AFL-CIO\n\n* Al Rojas, 
 Vice President, LCLAA Sacramento chapter\n\n* María Cervantes, Rep., 
 Fresno Boycott Committee\n\n* Francisco Chavez Romero, Unión del Barrio,   
            San Diego, CA\n\n* Juan Martinez, Farmworker, San Quintin, 
 México\n\n*   *   *\n8) The Youth Struggle in the Era of NAFTA 
 & “Free Trade”\n\n* Erick Campana, Student, UABC - Mexicali, 
 Mexico\n\n* Fernando Buitimea, Students in Defense of Public   Education, 
 Tijuana, Mexico\n\n* Emiliano Raya Aguilar, MIR, México\n\n* Student 
 activists from CSU Fullerton\n\n*   *   *\n\n9) NAFTA, the 
 Environment, & Workers’ Health and Safety\n* Roman Ortiz - Movimiento en 
 Defensa del Parque Benito Juárez - Tijuana\n\n* Susana Prieto Terrazas, 
 Attorney, organizer, Maquiladora Workers, Ciudad Juarez, México\n\n* Diana 
 Arangure, Mexicali Resiste!\n\n* Steve Zeltzer, CWA Pacific Media Workers 
 Guild, Chair, Human Rights Committee\n\n\n\n* * * * * * * * * *\n\n \n\n• 
 SATURDAY EVENING PLENARY SESSION\n\n(5:30 pm to 7 pm)\n\n \n[Second set of 
 keynote speakers, interspersed with Reports from the 9 Workshops, focused 
 on action proposals emanating from workshops. Each workshop will select a 
 note-taker who will present the conclusions of the workshop; Discussion and 
 Implementation of Workshop Decisions will be Sunday, Dec. 3]\n\n \n* Second 
 Plenary Session chairpersons\n\n* Desiree Rojas, Pres., Sacramento LCLAA, 
 AFL-CIO \n\n* Alan Benjamin, Representative, San Francisco Labor Council, 
 AFL-CIO\n\n \n* Keynote Speakers:\n\n* Stan Santos, Exec. Bd and 
 representative, Fresno Central Labor Council, AFL-CIO\n\n* Olga Miranda, 
 President, SEIU Local 87,                        San Francisco\n\n* Dean 
 Murakami, President, Los Rios College Federation of Teachers AFT 2279; Vice 
 President, Sacramento Central Labor Council\n\n* William I. Robinson, 
 Professor of Sociology and Global and International Studies, University of 
 California-Santa Barbara\n\n* Susana Prieto Terrazas, Attorney, organizer, 
 maquiladora workers, Ciudad Juarez, Mexico\n\n* Steve Zeltzer, United 
 Public Workers for Action; Workers Solidarity Action Network, San 
 Francisco\n\n* Jim Lafferty, Executive Director, National Lawyers Guild-Los 
 Angeles\n\n \nSUNDAY, DECEMBER 3\n\n \n* Action Plan Plenary Session (9:30 
 am to 1 pm)\n\n \n[Union Hall of United Steelworkers of America, 1200 E. 
 220th Street -  Carson, Calif.]\n\n \n— Implementation of Action 
 Campaigns from 9 Workshops: Next steps — and excerpts from written 
 messages to             conference from:\n\n- Canada\n\n- Haiti\n\n- 
 Peru\n\n- Ecuador\n\n- Chile\n\n- Brazil\n\n* Closing Comments by 
 Conference Co-Chairpersons\n\n\n\n* * * * *\n\n\n\nORGANIZATIONAL 
 ENDORSEMENTS\n\n\n\nInitial Conference Call issued by 100 prominent 
 unionists & activists in Mexico and the U.S. (for full list, see attachment 
 or go to www.binationalcampaign.org)  \n\n\nOrganizational endorsements 
 (partial list): Hermandad Mexicana-La Original; Sacramento LCLAA (AFL-CIO); 
 Asociaciones de Organizaciones por la Justicia Social (San Quintin); Farm 
 Labor Organizing Committee, (FLOC, AFL-CIO); Sindicato Nacional de 
 Jornaleros Agrícolas (SINDJA), México; Sacramento Labor Council 
 (AFL-CIO); San Francisco Labor Council (AFL-CIO); Sindicato Mexicano de 
 Electricistas (SME); Frente Auténtico del Trabajo (FAT); Sindicato 
 Nacional de Telefonistas de la República Mexicana; California State Labor 
 Council for Latin American Advancement (LCLAA-AFL-CIO); California Faculty 
 Association CSU Dominguez Hills; Comité Promotor Mexicano de la  
 Conferencia Binacional (sede Tuxtla Gutierrez, Chiapas); Department of 
 Modern Languages, CSU Dominguez Hills; UAW Local 551; Labor Fightback 
 Network; OPT Tijuana; The Organizer; SEIU 1000; Fresno Central Labor 
 Council; Haiti Liberté; Asociación de Padres por una Educación de 
 Calidad, Tijuana; Comisión de Derechos Humanos  del Noroeste de México; 
 Workers Solidarity Action Network; Coordinadora Nacional de Petroleros 
 Mexicanos, Villahermosa, Tabasco; Comisión Promotora de la Nueva Central 
 de Trabajadores Sur Sureste de México.\n\n\n\n* * * * *\n\n\n\nINITIAL 
 ENDORSERS OF THE BINATIONAL CONFERENCE IN THE UNITED STATES:\n\n\n\n• 
 Baldemar Velasquez, President, Farm Labor Organizing Committee (FLOC, 
 AFL-CIO), Toledo, OH; • Alan Benjamin, Member, Continuations Committee, 
 Mumbai Conference Against War & Exploitation, Delegate, SF Labor Council, 
 San Francisco, CA; • Eduardo Rosario, President, New York City Labor 
 Council for, Latin American Advancement (AFL-CIO), Brooklyn, NY; • Nativo 
 Lopez, Senior Advisor, Hermandad Mexicana Nacional “La Original”, Los 
 Angeles, CA; • Chris Silvera, Secretary-Treasurer, Local 808 
 International Brotherhood of Teamsters, Long Island City, NY; • Nancy 
 Wohlforth, Sec.- retary-Treasurer Emerita, OPEIU, Washington, DC; • Al 
 Rojas, LCLAA-Sacramento AFL-CIO, Sacramento, CA; • Saladin Muhammad, 
 Southern Workers Assembly, Rocky Mount, NC; • Colia Clark, National 
 Coordinator, Judicial Violence Symposium, Harlem, NY; • William I. 
 Robinson, Professor of Global and International Studies, UCSB, Santa 
 Barbara, CA; • Sara Flounders, Co-Director, International Action Center, 
 New York, NY; • Erin McKee, President, South Carolina AFL-CIO, Mt. 
 Pleasant, SC; • Joe Lombardo, Co-Coordinator, United National Antiwar 
 Coalition (UNAC), Delmar, NY; • Itzel Medina, Immigrant rights organizer, 
 San Francisco, CA; • Clarence Thomas, Past Secretary-Treasurer (retired), 
 ILWU Local 10, Co-chair, Million Worker March Movement, Oakland, CA; • 
 Rodrigo Toscano, Labor Institute / United Steelworkers, National Projector 
 Director for Health, Safety, and Environment, New Orleans, LA; • Donna 
 Dewitt, President Emeritus, South Carolina AFL-CIO, Swansea, SC; • 
 Katherine Black, Co-Convener, US Labor Against the War, Philadelphia, PA; 
 • David Swanson, Director of World Beyond War, Campaign Coordinator of 
 RootsAction.org, Charlottesville, VA; • Nnamdi Lumum­ba, State 
 Organizer, Ujima People’s Progress Party, Baltimore, MD; • Gene 
 Bruskin, Co-Founder, USLAW; trade unionist, Silver Spring, MD; • Jim 
 Lafferty, Executive Director Emeritus, National Lawyers Guild, Los Angeles, 
 CA; • Mary Prophet, Member, USLAW Nat’l Steering Committee, Delegate, 
 Alameda County Labor Committee, Berkeley, CA; • Ralph Schoenman, Taking 
 Aim, Vallejo, CA; • Mya Shone, Taking Aim, Vallejo, CA; • Allan Fisher, 
 AFT 2121 delegate to , San Francisco Labor Council, San Francisco, CA; • 
 Traven Leyshon, President, Green Mountain Labor Council, AFL-CIO, 
 Montpelier, VT; • Julia John, Ujima People’s Progress Party, Baltimore, 
 MD; • Laurence H. Shoup, UAW 1981 ret., Oakland, CA; • Melina Juárez, 
 Ph.D Candidate, University of New Mexico, Albuquerque, NM; • Dennis 
 Gallie, UAW 249 retired member, Kansas City, MO; • Rodger Scott, Past 
 President, AFT 2121, Current Executive Board Member & Delegate to the San 
 Francisco Labor Council, San Francisco, CA; • Jerry Levinsky, Steering 
 Committee, Labor Fightback Network, Member, SEIU 509, Amherst, MA; • 
 Haldon C. Sutton, Executive Board Member at Large, SW Florida UAW Retired 
 Workers Council (for id only), North Port, FL; • Larry Duncan, CWA 14408 
 (Retired), Chicago, IL; • James M. Wallrabenstein, Social Justice 
 Activist, Spokane, WA; • Lindsay Curtis, Editorial Board, The Organizer 
 Newspaper, Sacramento, CA; • Elizabeth C Wright, Social justice activist, 
 San Francisco, CA; • Steve Early, Member, Richmond Progressive Alliance, 
 and Pacific Media Workers Guild/ News Guild/CWA, Richmond, CA; • Thomas 
 Bias, National Secretary, Labor Fightback Network, Flanders, NJ; • Gayle 
 McLaughlin, Former Mayor of Richmond, CA and Candidate for Lt. Governor of 
 California 2018, Richmond, CA; • Timothy Stinson, Socialist Organizer, 
 Albany, OR; • Don Bryant, Greater Cleveland Immigrant Support Network, 
 President, Cleveland, OH; • C.T. Weber, Peace and Freedom Party of 
 California, Legislative Committee Chair, Sacramento, CA; • Rolando 
 Revilla Jr., FLOC, Toledo, OH; • Julian Kunnie, First Nations Enforcement 
 Agency, Tucson, AZ; • Mark Weber, Social justice activist, Cleveland, OH; 
 • Dan Kaplan , Executive Secretary, AFT Local 1943, the San Mateo 
 Community College Federation of Teachers, San Mateo, CA ; • Michael 
 Carano, Teamsters Local 348, retired, Tallmadge, OH; • Carol E Gay, 
 President, NJ State Industrial Union Council, Brick, NJ; • Jeffrey Segal, 
 National Organization of Legal Services Workers, UAW Local 2320, 
 Louisville, KY; • David Walters, Member, IBEW 1245 (retired), San 
 Francisco, CA; • Millie Phillips, Steering Committee, Labor Fightback 
 Network, Oakland, CA; • Todd Jelen, Member, American Federation of 
 Musicians (AFL-CIO), Brook Park, OH; • Sarah-Emily Carter, Administration 
 Assistant, South Carolina AFL-CIO, Swansea, SC; • Mary Findley, Vice 
 Chair, Lorain County Forward, Amherst, OH; • Cindy Fanderys, Peace Action 
 (retiree), Cleveland, OH; • Cindy Sheehan, Executive Director, Cindy 
 Sheehan Soapbox, Vacaville, CA; • Bill Shields, Member, AFT 2121, San 
 Francisco, CA; • Barry Hermanson, SF Green Party, San Francisco, CA.  • 
 Jeff Mackler, Socialist Action.\n\n\n\nINITIAL ENDORSERS OF THE BINATIONAL 
 CONFERENCE  IN MEXICO:\n\n• Luis Carlos Haro, OPT Tijuana, Coordinador 
 Campaña Binacional en México; • Alianza de Organizaciones Nacional 
 Estatal y Municipal por la Justicia Social, San Quintin, Baja California; 
 • Sindicato Independiente Nacional de Jornaleros Agrícolas (SINDJA); • 
 Comisión Ciudadana de Derechos Humanos del Noroeste, A.C; • Fidel 
 Sanchez, Secretario General, Alianza, San Quintin, BC; • Bonifacio 
 Martínez Cruz, Dirigente, Alianza, San Quintin, BC; • Lorenzo Rodriguez 
 Jimenez, Secretario General, SINDJA; • Venustiano Cruz Hernández, 
 Dirigente, Alianza, San Quintin, BC; • Octavio Angel Lopez, Dirigente, 
 Alianza, San Quintin, BC; • Fernando Serrano Monroy, Secretario General 
 del Sindicato Único Independiente de los Colegios de Bachilleres de 
 Chiapas SUITCOBACH; • Fernanda Justo, OPT Jalisco; • Mario Roldán 
 Robledo, Dirigente del Consejo Central de Lucha de la Sección 40 SNTE – 
 CNTE; • Muriel Gómez, Dirigente del Consejo Central de Lucha de la 
 Sección 40 SNTE – CNTE; • Daniel Gómez Mesa, Nueva Central de 
 Trabajadores Sindicalista de la Sección 7 del SNTE- CNTE, región Frontera 
 Comalapa; • Daniel Martínez Velasco, Comi­sión promotora de la Nueva 
 Central de Trabajadores sur sureste de México; • Raúl Drouvalliet 
 Patiño, Coordinadora Nacional de Petroleros Mexicanos, Villahermosa, 
 Tabasco; • Mario Díaz Ortega, Coordinadora en Defensa de PEMEX, 
 Minatitlán, Veracruz; • José Raúl Calleja Lacorti, Coordinadora 
 Estatal Democrática de la Sección 50 de SNTSA; • Susana Prieto 
 Terrazas, Asociación Obrer@s Maquiler@s de Ciudad Juárez y Movimiento de 
 Resistencia Civil del Estado de Chihuahua; • Fredy Rodríguez Méndez, 
 sindicalista Sección 7 SNTE- CNTE;    • Roger Cerda Medina, Secretario 
 de Organización de la Delegación D-IV 9 Jubilados y Pensionados; • 
 Carlos Misael Palma López, CORCI México; • Melquiades Velueta Velueta, 
 Coordinadora Democrática de la Salud, Sección 50, SNTSA, región 
 Palenque, Chiapas; • Russel Aguilar Brindis, Secretario General 
 Delegacional Escuelas Secundarias Técnicas, Sección VII SNTE-CNTE; • 
 Gilberto Montes Vázquez, OPT Chiapas; • Wilner Metelus, Presidente del 
 Comité Ciudadano de Defensa de los Naturalizados y Afroamexicanos; • 
 Hugo Castro Vázquez, Coordinador de la organización Ángeles sin 
 Fronteras en Baja California; • Mónica Acosta Zamora, National Political 
 Campaign for the Freedom of Ramsey Muñíz; • Unión General de Obreros y 
 Campesinos de México Bandera Roja; • Guillermo Almeyra, escritor y 
 periodista; • Sara Fernández, Grupo Gestor Águilas de Baja California, 
 Tijuana; • Cirilo Gómez, profesor Tecate; • Asociación de Padres por 
 una Educación de Calidad, Tijuana; • Ubaldo Rosas Valladeres, Jornalero 
 Agrícola San Quintín; • Alejandra Rivera Arvizu, OPT Tijuana; • 
 María Rivera, OPT Tijuana; • Joaquín Torres, OPT Tijuana; • Christian 
 Santana, Estudiantes en Defensa de la Educación Pública; • Juan Carlos 
 Vargas, CORCI México; • Jesús Casillas Arredondo, OPT Mexicali; • 
 Carlos Rosales, Profesor de UABC; • Manuel Hernández, Profesor de 
 preparatoria, BC; • Abril Angélica Rodríguez Martínez, activista en el 
 movimiento feminista y en defensa del agua, Mexicali, Baja California; • 
 Juan Antonio Avalos Rojas, STUNAM; • Eduardo Félix, Estudiante San Luis 
 Rio Colorado, Sonora; • Erick Omar Jimenez Campaña, estudiante UABC; • 
 Liliana Plumeda, OPT Mexicali; • Marco Morales, Activista de Mexicali 
 Resiste; • Teresa Saavedra Talavera, Partido Popular Socialista de 
 México; • Laura Benítez, Movimiento Ateo Feminista Internacional; • 
 Emiliano Raya Aguilar, Movimiento de Izquierda Revolucionaria; • Ismael 
 Ruiz, Asistente de Investigación.                                          
      \n\n\n(Note: All titles & organizations for individuals are listed for 
 identification only.)\n 
 https://www.indybay.org/newsitems/2017/11/27/18804910.php
SUMMARY:LA Binational Conference To Cancel NAFTA and Unite Workers Of Mexico and the US
LOCATION: California State University-Dominguez Hills, Loker Student Union, 3rd 
 Floor, 1000 E. Victoria St., Carson, CA]\n
URL:https://www.indybay.org/newsitems/2017/11/27/18804910.php
DTSTART:20171202T170000Z
DTEND:20171202T220000Z
END:VEVENT
END:VCALENDAR
