BEGIN:VCALENDAR
VERSION:2.0
X-WR-CALNAME:www.indybay.org
PRODID:-//indybay/ical// v1.0//EN
BEGIN:VEVENT
UID:Indybay-18804874
SEQUENCE:18944236
CREATED:20171126T013500Z
DESCRIPTION:70 years since the illegal founding of the Israeli state\nPalestine and the 
 Fight vs. Colonial Occupation\n\nFeatured speakers:\nEyad Kishawi, 
 Palestinian Community Activist\nRichard Becker, Author, "Palestine, Israel 
 & the U.S. Empire"\n\nOn Nov. 29, 1947, under intense U.S. pressure, the UN 
 voted to divide the British colony of Palestine and hand over 56% of the 
 territory to European Zionist settlers. The Palestinian people were not 
 consulted. In the war that followed, the Israeli military conquered 78% of 
 the land and drove more than 750,000 Palestinians out of their homeland by 
 means of terrorist ethnic cleansing.  \n\nToday, the most reactionary Arab 
 states are openly collaborating with Israel and the U.S. against the 
 interests of the Palestinians and all peoples of the region.  \n\nJoin us 
 for historical video, presentations and discussion.\n\n$5-10 donation, no 
 one turned away for lack of funds. \nRefreshments provided. Wheelchair 
 accessible.\n\n\n https://www.indybay.org/newsitems/2017/11/25/18804874.php
SUMMARY:Forum: Palestine and the Fight Against Colonial Occupation
LOCATION:2969 Mission St., San Francisco
URL:https://www.indybay.org/newsitems/2017/11/25/18804874.php
DTSTART:20171202T030000Z
DTEND:20171202T050000Z
END:VEVENT
END:VCALENDAR
