BEGIN:VCALENDAR
VERSION:2.0
X-WR-CALNAME:www.indybay.org
PRODID:-//indybay/ical// v1.0//EN
BEGIN:VEVENT
UID:Indybay-18804731
SEQUENCE:18944079
CREATED:20171122T042200Z
DESCRIPTION:After the strong showing in Oakland on November 14, Oakland mayor Libby 
 Schaaf and OPD chief Anne Kirkpatrick got nervous and pulled a fast one, 
 scheduling a special council agenda item on November 28 to discuss the ICE 
 Raid and consider an OPD request for total impunity to work with HSI/ICE 
 going forward - before the public hearing on December 5th - and before CM 
 Kaplan and Brook's resolution for non-cooperation with ICE can be heard. 
 The Bay Area needs to respond. So come out on the 28th.\n\nOn August 16, 
 HSI/ICE conducted an AM raid on the 700th block of 27th Street in West 
 Oakland with OPD assistance. The raid was advertised (erroneously) as a 
 search warrant for the sexual trafficking of juveniles, biut there were no 
 actual allegations of sexual abuse, no juveniles were removed from the home 
 and the solitary arrest was for being undocumented. The 25 year old 
 arrestee is now in the deportation process. At an October 5th investigation 
 and hearing that the OPD Chief did not attend, Oakland's Privacy Commission 
 concluded that the raid violated Oakland's sanctuary city policy and 
 several statements made by OPD chief Anne Kirkpatrick about the raid were 
 false.\n\nVideo of the hearing is 
 here. https://oaklandprivacy.org/2017/10/06/privacy-advisory-commission-investigation-of-oakland-ice-raid-concludes-violation-of-sanctuary-city-policy/\n\nEast 
 Bay Express coverage is 
 here:\nhttps://www.eastbayexpress.com/oakland/oakland-police-chief-made-false-statements-about-ice-raid/Content?oid=9793923\n\nCity 
 Council members Desley Brooks and Rebecca Kaplan have now set this item for 
 a committee hearing with the OPD Chief in attendance only to have the Mayor 
 and City Council President do an endaround and try to rush authorize 
 ongoing OPD cooperation with HSI/ICE.\n\nOaklanders and other Bay Area 
 residents who want sanctuary legislation taken seriously around the Bay 
 should attend. We need to put a stop to this. #DeportICE.\n #DeportICE  
 #DeportICE  #DeportICE  #DeportICE\n 
 https://www.indybay.org/newsitems/2017/11/21/18804731.php
SUMMARY:#DeportICE at the Oakland City Council: Report on Oakland ICE Raid With OPD Part 2
LOCATION:Oakland City Hall\n500 14th St., Oakland, CA
URL:https://www.indybay.org/newsitems/2017/11/21/18804731.php
DTSTART:20171129T023000Z
DTEND:20171129T063000Z
END:VEVENT
END:VCALENDAR
