BEGIN:VCALENDAR
VERSION:2.0
X-WR-CALNAME:www.indybay.org
PRODID:-//indybay/ical// v1.0//EN
BEGIN:VEVENT
UID:Indybay-18804583
SEQUENCE:18943551
CREATED:20171116T183300Z
DESCRIPTION:Cool Effect is taking over the Holiday Ice Rink at Embarcadero Center and 
 invites you to join us for a complimentary skate session on #GivingTuesday. 
 In addition to free ice skating, there will also be a 'Bosco Lite' photo 
 booth, complimentary snacks and beverages courtesy of KIND, Health-Ade and 
 SMASHMALLOW, and a raffle featuring various prizes & goodies.\n\nAnd to get 
 even more in the holiday spirit, we will have a team of costume-suited 
 snowmen that will be skating from 10 a.m. - 2 p.m. for kids and adults 
 alike to skate and take photos with a snowman!\n\nHelp us raise awareness 
 for the fight against climate change on #GivingTuesday! Please consider 
 contributing on-site to a Cool Effect project. There will be staff on-site 
 to provide information on current CO2-reducing projects and to accept 
 donations.\n\nNovember 28, 2017\nHoliday Ice Rink @ Embarcadero 
 Center\nTimes: 10 a.m. - 9:30 p.m.\n\n10AM-11:30AM (Skating Session 
 1)\n12:00PM-1:30PM (Skating Session 2)\n2:00PM-3:30PM (Skating Session 
 3)\n4:00PM-5:30PM (Skating Session 4)\n6:00PM-7:30PM (Skating Session 
 5)\n8:00PM-9:30PM (Skating Session 6)\n 
 https://www.indybay.org/newsitems/2017/11/16/18804583.php
SUMMARY:Complimentary Skating with Cool Effect at the Embarcadero Holiday Ice Rink
LOCATION:Holiday Ice Rink at Embarcadero Center
URL:https://www.indybay.org/newsitems/2017/11/16/18804583.php
DTSTART:20171128T180000Z
DTEND:20171129T050000Z
END:VEVENT
END:VCALENDAR
