BEGIN:VCALENDAR
VERSION:2.0
X-WR-CALNAME:www.indybay.org
PRODID:-//indybay/ical// v1.0//EN
BEGIN:VEVENT
UID:Indybay-18804394
SEQUENCE:18943266
CREATED:20171110T041000Z
DESCRIPTION: The U U SF Sunday will present a panel discussion on the current status of 
 SB 562\n The panel will be moderated by Dr, Jeff Gee who will also speak on 
 Bernie's Sanders Medicare\n  For All bill in the Senate followed by two 
 speakers Dr. Dan Geiger who will give an update on\n  SB 562 and why it 
 makes sense for the California business community and Dr. Chantal\n  
 Lunderville who will speak about  what single payers means to young 
 physicians in training\n  who care for vulnerable populations like those at 
 S F General.\n https://www.indybay.org/newsitems/2017/11/09/18804394.php
SUMMARY:SB 562: A Cure For California's Sick Health System
LOCATION:Unitarian Universalist Center\n1187 Franklin /Geary Streets\nSan Francisco
URL:https://www.indybay.org/newsitems/2017/11/09/18804394.php
DTSTART:20171112T173000Z
DTEND:20171112T183000Z
END:VEVENT
END:VCALENDAR
