BEGIN:VCALENDAR
VERSION:2.0
X-WR-CALNAME:www.indybay.org
PRODID:-//indybay/ical// v1.0//EN
BEGIN:VEVENT
UID:Indybay-18804161
SEQUENCE:18942929
CREATED:20171103T185400Z
DESCRIPTION:Rally outside at 4:00 PM before going into the hearing!\n\nOn Friday, 
 November 3, 2017, at 5:00 pm, the San Francisco Police Commission will be 
 voting on whether or not to allow officers of the San Francisco Police 
 Department to carry and use electroshock weapons (TASERS). We need people 
 to turn out to City Hall on the 3rd to make their voices heard!\n\nIn the 
 meantime, please, take a minute to tell the Commissioners to vote NO on 
 Tasers: 
 https://dsasf.org/notaserssf/\n\n#NoTasersSF\n\n\nhttps://twitter.com/APTPaction/status/926518611933478912\nhttps://www.facebook.com/events/1959751160934238/\n 
 https://www.indybay.org/newsitems/2017/11/03/18804161.php
SUMMARY:Tell San Francisco Police Commission to Vote No on Tasers
LOCATION:SF City Hall, Room 250
URL:https://www.indybay.org/newsitems/2017/11/03/18804161.php
DTSTART:20171103T230000Z
DTEND:20171104T030000Z
END:VEVENT
END:VCALENDAR
