BEGIN:VCALENDAR
VERSION:2.0
X-WR-CALNAME:www.indybay.org
PRODID:-//indybay/ical// v1.0//EN
BEGIN:VEVENT
UID:Indybay-18804089
SEQUENCE:18942909
CREATED:20171101T032200Z
DESCRIPTION:Celebrate the Russian Revolution: “Down with All Tyrants!”  \nHonor 
 the 100th anniversary of when workers first took state power by attending 
 an evening of speakers, music and Russian food. Historian-activists will 
 discuss the importance of the Soviet revolution and its meaning for today. 
 \n\nSpeakers:\nYolanda Alaniz\nRetired children’s librarian, author and 
 researcher on the right of nations to self-determination, and founding 
 member of United Workers Union Independent\n\nSam Rubin\nFounding member, 
 Communities Against Racism & Fascism (CARF); Marxist scholar; special 
 education teacher; and member, United Educators of San Francisco\nLive 
 Music\n\nSaturday, November 18, 7:00pm \n5:30pm Russian Dinner (vegan 
 option available) • $10-$15 donation Door Donation $3.00-5.00\nNew 
 Valencia Hall, 747 Polk Street, San Francisco (wheelchair symbol) (at 
 Ellis Street, near Civic Center BART, Muni lines 19, 31, 38, 47, 
 49)\n\nAuspices: Freedom Socialist Party For information: 415-864-1278, 
 bafsp@earthlink.net, tinyurl.com/FB-BAFSP, www.socialism.com/sanfrancisco 
 • Please call two days ahead to arrange childcare.\n\n 
 https://www.indybay.org/newsitems/2017/10/31/18804089.php
SUMMARY:Celebrate the Russian Revolution: “Down with All Tyrants!”
LOCATION:New Valencia Hall, 747 Polk Street, San Francisco. 
URL:https://www.indybay.org/newsitems/2017/10/31/18804089.php
DTSTART:20171119T030000Z
DTEND:20171119T053000Z
END:VEVENT
END:VCALENDAR
