BEGIN:VCALENDAR
VERSION:2.0
X-WR-CALNAME:www.indybay.org
PRODID:-//indybay/ical// v1.0//EN
BEGIN:VEVENT
UID:Indybay-18803942
SEQUENCE:18942647
CREATED:20171026T165100Z
DESCRIPTION:The Party for Socialism and Liberation invites you to a commemoration of 
 the 100th anniversary of the Russian Revolution.\n\nFilm: “Tsar to 
 Lenin”\nFirst released in 1937, “Tsar to Lenin,” ranks among the 
 twentieth century’s greatest film documentaries. It presents an 
 extraordinary cinematic account of the Russian Revolution—from the 
 seizure of power to the revolutionary victory against the armies of 14 
 imperialist countries and the domestic reactionaries. \n\nNew PSL Book: 
 Storming the Gates\nStorming the Gates looks inside the Russian Revolution, 
 from the early years to the last, recounting the vast accomplishments, 
 global impact, loyal followers, challenges and shortcomings, it remembers 
 “the Soviet Union not as the end of communism but as its first grand, 
 real-life experiment.” Featured speaker: Co-author, Richard 
 Becker\n\n$3-10 donation, no one turned away for lack of funds. 
 \nRefreshments provided. Wheelchair accessible.\n 
 https://www.indybay.org/newsitems/2017/10/26/18803942.php
SUMMARY:Historic Film & New Book Launch on 100th Anniversary of Russian Revolution!
LOCATION:2969 Mission St., near 26th St. 
URL:https://www.indybay.org/newsitems/2017/10/26/18803942.php
DTSTART:20171104T020000Z
DTEND:20171104T040000Z
END:VEVENT
END:VCALENDAR
