BEGIN:VCALENDAR
VERSION:2.0
X-WR-CALNAME:www.indybay.org
PRODID:-//indybay/ical// v1.0//EN
BEGIN:VEVENT
UID:Indybay-18803803
SEQUENCE:18942463
CREATED:20171022T010300Z
DESCRIPTION:Join authors Joshua Bloom and Waldo Martin in conversation with journalist 
 Davey D as they discuss Black against Empire: The History and Politics of 
 the Black Panther Party.\n\nIncluded in their discussion is the the 
 genesis, rise and decline of the Black Panther Party and the movement's 
 link to today's struggles.\n 
 https://www.indybay.org/newsitems/2017/10/21/18803803.php
SUMMARY:The Irrepressible Politics of the Black Panther Party
LOCATION:San Francisco Public Library \n100 Larkin St. \nSan Francisco, CA 94102
URL:https://www.indybay.org/newsitems/2017/10/21/18803803.php
DTSTART:20171029T200000Z
DTEND:20171029T220000Z
END:VEVENT
END:VCALENDAR
