BEGIN:VCALENDAR
VERSION:2.0
X-WR-CALNAME:www.indybay.org
PRODID:-//indybay/ical// v1.0//EN
BEGIN:VEVENT
UID:Indybay-18803639
SEQUENCE:18942212
CREATED:20171016T203500Z
DESCRIPTION:Trump advertises the budget he submitted to Congress as a plan to “put 
 Americans to work.” In reality, this budget is a take back from the poor 
 and working people. How exactly does the Trump budget achieve its real goal 
 of handing a gift to the corporations and the super-rich? Hear a detailed 
 report on the Trump budget. \n\nMeanwhile, although Trump and Congressional 
 Republicans have so far failed to end the Affordable Care Act, they have 
 pledged to continue trying. Hear a talk about the upcoming round of attacks 
 on “Obamacare” and why universal healthcare is the only real solution 
 to our healthcare crisis. Join us for talks and discussion on the 
 revolutionary alternative to the Trump program.\n\n$3-10 donation, no one 
 turned away for lack of funds. \nRefreshments provided. Wheelchair 
 accessible.\n https://www.indybay.org/newsitems/2017/10/16/18803639.php
SUMMARY:Forum "Trump’s Budget Attacks Workers"
LOCATION:2969 Mission St. near 26th St. 
URL:https://www.indybay.org/newsitems/2017/10/16/18803639.php
DTSTART:20171021T020000Z
DTEND:20171021T033000Z
END:VEVENT
END:VCALENDAR
