BEGIN:VCALENDAR
VERSION:2.0
X-WR-CALNAME:www.indybay.org
PRODID:-//indybay/ical// v1.0//EN
BEGIN:VEVENT
UID:Indybay-18803594
SEQUENCE:18942158
CREATED:20171013T024300Z
DESCRIPTION:  Al Rojas a former farm worker and UFW labor orgainizer from 1961-1979 
 will speak about From \n Delano to San Quentin. What's up with farm workers 
 and why are farm workers worse off today\n than before the days of the 
 Grape Boycott fifty years ago.\n\n Mr. Rojas will also  discuss the Grape 
 Boycott of 1965 what led to the strike and what is California\n  connection 
 to the strike as well as what are the challenges facing the workers 
 today.\n  \n https://www.indybay.org/newsitems/2017/10/12/18803594.php
SUMMARY:UUSF Sunday Forum Presents : Al Rojas From Delano(1965) To San Quentin(2015)
LOCATION:  U U CENTER\n1187 Franklin/Geary Streets\n San Francisco
URL:https://www.indybay.org/newsitems/2017/10/12/18803594.php
DTSTART:20171015T163000Z
DTEND:20171015T173000Z
END:VEVENT
END:VCALENDAR
