BEGIN:VCALENDAR
VERSION:2.0
X-WR-CALNAME:www.indybay.org
PRODID:-//indybay/ical// v1.0//EN
BEGIN:VEVENT
UID:Indybay-18803343
SEQUENCE:18941793
CREATED:20171001T024100Z
DESCRIPTION:Monthly APTP meeting is held on every 3rd Wednesday of the month.\n\nThe 
 Anti Police-Terror Project is a project of the ONYX ORGANIZING COMMITTEE 
 that in coalition with other organizations, like Idriss Stelley Foundation, 
 Community READY Corps and Workers World Party - Bay Area, is working to 
 develop a replicable and sustainable model to end police terrorism in this 
 country.\n\nWe are led by the most impacted communities but are a 
 multi-racial, mutil-generational coalition.\n 
 https://www.indybay.org/newsitems/2017/09/30/18803343.php
SUMMARY:Anti Police-Terror Project General Meeting
LOCATION:Eastside Arts Alliance, 2277 International Blvd, Oakland
URL:https://www.indybay.org/newsitems/2017/09/30/18803343.php
DTSTART:20171019T023000Z
DTEND:20171019T043000Z
END:VEVENT
END:VCALENDAR
