BEGIN:VCALENDAR
VERSION:2.0
X-WR-CALNAME:www.indybay.org
PRODID:-//indybay/ical// v1.0//EN
BEGIN:VEVENT
UID:Indybay-18803062
SEQUENCE:18941429
CREATED:20170921T003600Z
DESCRIPTION:BLESSING OF THE ANIMALS\nBring your animal companions (or picture of them). 
 Join us in this celebration of all earth's creatures.\n\nThis Service 
 affirms respect for all life in the tradition of St. Francis of Assisi, our 
 City's namesake\nand patron of all animals and the environment.\n\nReverend 
 Vanessa Southern, our Senior Minister, will lead this joyous ritual.  We 
 will hear about the effects of climate change on all wild and domestic 
 creatures, and how to work for a more humane and sustainable 
 planet.\n\nSponsored by Unitarian Universalist Animal Ministry \nContact 
 415-776-4580 or email uuanimalministry@gmail.com \n 
 https://www.indybay.org/newsitems/2017/09/20/18803062.php
SUMMARY:Blessing of the Animals
LOCATION:First Unitarian Universalist Society\nIn the Chapel\n1187 Franklin 
 Street/corner Geary Blvd\nSan Francisco, CA  94109
URL:https://www.indybay.org/newsitems/2017/09/20/18803062.php
DTSTART:20171015T200000Z
DTEND:20171015T220000Z
END:VEVENT
END:VCALENDAR
