BEGIN:VCALENDAR
VERSION:2.0
X-WR-CALNAME:www.indybay.org
PRODID:-//indybay/ical// v1.0//EN
BEGIN:VEVENT
UID:Indybay-18802913
SEQUENCE:18941200
CREATED:20170914T143800Z
DESCRIPTION:If it's housing debt or student debt or international debt that's your fave 
 tar baby--the one you can't get unstuck from yakking about, bemoaning, 
 decrying and getting livid over,\n\ncome along on a walking tour that 
 nominally surveys social movement history in San Francisco, but deep down 
 and very specifically details public policy that though comprehensive is 
 non-intrusive. What if debt were divorced from access to land?\n\nWhat if 
 San Francisco land values were completely socialized? The sales price of 
 land would fall towards zero . . . no debt to buy land.\nWhat if, as with 
 Stanford University, land values paid for higher education's operation . . 
 . no student debt.\nWhat if all natural resource values were socialized 
 under a democratic form of governance? No more foreign extortion of 
 productive goods and services in exchange for surrendering coal, oil, 
 cobalt, copper to mega-nations.\n\nIf you worry over the debt story, come 
 on this walk before you stumble inside the half-way house of intellectual 
 timidity obsessed with micro-managing fixes.\n 
 https://www.indybay.org/newsitems/2017/09/14/18802913.php
SUMMARY:Ending corrosive debt: the walking tour
LOCATION:American Youth Hostel\n312 Mason Street\nSan Francisco
URL:https://www.indybay.org/newsitems/2017/09/14/18802913.php
DTSTART:20170916T160000Z
DTEND:20170916T190000Z
END:VEVENT
END:VCALENDAR
